BEGIN:VCALENDAR
VERSION:2.0
PRODID:-//The Sedona Project - ECPv6.15.18//NONSGML v1.0//EN
CALSCALE:GREGORIAN
METHOD:PUBLISH
X-WR-CALNAME:The Sedona Project
X-ORIGINAL-URL:https://thesedonaproject.org
X-WR-CALDESC:Events for The Sedona Project
REFRESH-INTERVAL;VALUE=DURATION:PT1H
X-Robots-Tag:noindex
X-PUBLISHED-TTL:PT1H
BEGIN:VTIMEZONE
TZID:UTC
BEGIN:STANDARD
TZOFFSETFROM:+0000
TZOFFSETTO:+0000
TZNAME:UTC
DTSTART:20250101T000000
END:STANDARD
END:VTIMEZONE
BEGIN:VEVENT
DTSTART;TZID=UTC:20260114T180000
DTEND;TZID=UTC:20260114T190000
DTSTAMP:20260425T221415
CREATED:20250911T000741Z
LAST-MODIFIED:20250911T000741Z
UID:10001070-1768413600-1768417200@thesedonaproject.org
SUMMARY:Yoga for Weary Women
DESCRIPTION:If you’re a woman (of any age) who needs a safe space to destress and rejuvenate\, join us every Wednesday for a complimentary yoga class. Chaya Galicia facilitates this class which combines vinyasa and yin (yin is a nice flow through easy stretches combined with resting poses that are held for several breaths\, bringing healing to the nervous system). This class is for beginners and those more experienced. If you have a mat and blocks\, bring them! Otherwise\, some will be provided.\n\nSpace is limited. Please text us to confirm your spot: 530-278-8461.
URL:https://thesedonaproject.org/event/yoga-for-weary-women-4/2026-01-14/
LOCATION:The Sedona Project\, 500 Olive Street\, Suite 28\, Marysville\, CA\, United States
ATTACH;FMTTYPE=image/png:https://thesedonaproject.org/wp-content/uploads/2025/09/Yoga-for-Weary-Women.png
ORGANIZER;CN="The Sedona Project":MAILTO:theteam@thesedonaproject.org
END:VEVENT
END:VCALENDAR