BEGIN:VCALENDAR
VERSION:2.0
PRODID:-//The Sedona Project - ECPv6.15.18//NONSGML v1.0//EN
CALSCALE:GREGORIAN
METHOD:PUBLISH
X-WR-CALNAME:The Sedona Project
X-ORIGINAL-URL:https://thesedonaproject.org
X-WR-CALDESC:Events for The Sedona Project
REFRESH-INTERVAL;VALUE=DURATION:PT1H
X-Robots-Tag:noindex
X-PUBLISHED-TTL:PT1H
BEGIN:VTIMEZONE
TZID:UTC
BEGIN:STANDARD
TZOFFSETFROM:+0000
TZOFFSETTO:+0000
TZNAME:UTC
DTSTART:20250101T000000
END:STANDARD
END:VTIMEZONE
BEGIN:VEVENT
DTSTART;TZID=UTC:20260226T180000
DTEND;TZID=UTC:20260226T190000
DTSTAMP:20260425T204333
CREATED:20251101T181622Z
LAST-MODIFIED:20251101T181820Z
UID:10001319-1772128800-1772132400@thesedonaproject.org
SUMMARY:Living with Complex Medical Conditions
DESCRIPTION:A monthly group for people who are navigating chronic illness or complex medical conditions. Whether you are the patient\, or the caregiver\, there’s space for you here. \nWe meet both in person at The Sedona Project\, and virtually at https://meet.google.com/qmt-diif-sjx \n\n← Back Thank you for your response. ✨\n\n\n					\n						\n							\n							\n						\n						\n						\n						\n						\n							\n								\n									\n										\n										\n									\n									\n										\n										\n									\n								\n							\n						\n						\n							\n								\n									\n									\n										\n									\n									\n									\n								\n							\n						\n					\n				\n\n\n\nName(required)\n\n \n			\n				\n					\n						\n						\n						\n					\n				\n				\n			 \n	\n\n\nPhone(required)\n\n \n			\n				\n					\n						\n						\n						\n					\n				\n				\n			 \n	\n\n\nMessage\n\n \n			\n				\n					\n						\n						\n						\n					\n				\n				\n			\n	\n	\n\n				\n					\n				\n						Submit
URL:https://thesedonaproject.org/event/living-with-complex-medical-conditions/2026-02-26/
LOCATION:The Sedona Project\, 500 Olive Street\, Suite 28\, Marysville\, CA\, United States
ORGANIZER;CN="The Sedona Project":MAILTO:theteam@thesedonaproject.org
END:VEVENT
END:VCALENDAR