BEGIN:VCALENDAR
VERSION:2.0
PRODID:-//The Sedona Project - ECPv6.15.18//NONSGML v1.0//EN
CALSCALE:GREGORIAN
METHOD:PUBLISH
X-WR-CALNAME:The Sedona Project
X-ORIGINAL-URL:https://thesedonaproject.org
X-WR-CALDESC:Events for The Sedona Project
REFRESH-INTERVAL;VALUE=DURATION:PT1H
X-Robots-Tag:noindex
X-PUBLISHED-TTL:PT1H
BEGIN:VTIMEZONE
TZID:UTC
BEGIN:STANDARD
TZOFFSETFROM:+0000
TZOFFSETTO:+0000
TZNAME:UTC
DTSTART:20250101T000000
END:STANDARD
END:VTIMEZONE
BEGIN:VEVENT
DTSTART;TZID=UTC:20260423T180000
DTEND;TZID=UTC:20260423T190000
DTSTAMP:20260423T102257
CREATED:20260307T154057Z
LAST-MODIFIED:20260411T142920Z
UID:10001390-1776967200-1776970800@thesedonaproject.org
SUMMARY:Living with Complex Medical Conditions
DESCRIPTION:Support group for people living with complex medical conditions. Text 530-278-8461 to let us know you’re coming.
URL:https://thesedonaproject.org/event/living-with-complex-medical-conditions-3/2026-04-23/
LOCATION:The Sedona Project\, 500 Olive Street\, Suite 28\, Marysville\, CA\, United States
ORGANIZER;CN="The Sedona Project":MAILTO:theteam@thesedonaproject.org
END:VEVENT
BEGIN:VEVENT
DTSTART;TZID=UTC:20260425T080000
DTEND;TZID=UTC:20260425T120000
DTSTAMP:20260423T102257
CREATED:20260411T144010Z
LAST-MODIFIED:20260411T144010Z
UID:10001712-1777104000-1777118400@thesedonaproject.org
SUMMARY:Yard Sale Fundraiser
DESCRIPTION:Help us raise some money! Our services are all free\, but we still have a few bills to pay 🙂 We hope you’ll stop by and support our work!
URL:https://thesedonaproject.org/event/yard-sale-fundraiser/
LOCATION:Jonathan Drive\, Yuba City\, Jonathan Drive\, Yuba City
ORGANIZER;CN="The Sedona Project":MAILTO:theteam@thesedonaproject.org
END:VEVENT
BEGIN:VEVENT
DTSTART;TZID=UTC:20260425T110000
DTEND;TZID=UTC:20260425T123000
DTSTAMP:20260423T102257
CREATED:20260411T142729Z
LAST-MODIFIED:20260411T142729Z
UID:10001651-1777114800-1777120200@thesedonaproject.org
SUMMARY:Come As You Art
DESCRIPTION:Art expression for young adults age 18-30. Inspo and materials will be provided\, or bring your own if you have something specific in mind! All are welcome!
URL:https://thesedonaproject.org/event/come-as-you-art/
LOCATION:The Sedona Project\, 500 Olive Street\, Suite 28\, Marysville\, CA\, United States
END:VEVENT
BEGIN:VEVENT
DTSTART;TZID=UTC:20260429T180000
DTEND;TZID=UTC:20260429T190000
DTSTAMP:20260423T102257
CREATED:20250911T000741Z
LAST-MODIFIED:20250911T000741Z
UID:10001085-1777485600-1777489200@thesedonaproject.org
SUMMARY:Yoga for Weary Women
DESCRIPTION:If you’re a woman (of any age) who needs a safe space to destress and rejuvenate\, join us every Wednesday for a complimentary yoga class. Chaya Galicia facilitates this class which combines vinyasa and yin (yin is a nice flow through easy stretches combined with resting poses that are held for several breaths\, bringing healing to the nervous system). This class is for beginners and those more experienced. If you have a mat and blocks\, bring them! Otherwise\, some will be provided.\n\nSpace is limited. Please text us to confirm your spot: 530-278-8461.
URL:https://thesedonaproject.org/event/yoga-for-weary-women-4/2026-04-29/
LOCATION:The Sedona Project\, 500 Olive Street\, Suite 28\, Marysville\, CA\, United States
ATTACH;FMTTYPE=image/png:https://thesedonaproject.org/wp-content/uploads/2025/09/Yoga-for-Weary-Women.png
ORGANIZER;CN="The Sedona Project":MAILTO:theteam@thesedonaproject.org
END:VEVENT
BEGIN:VEVENT
DTSTART;TZID=UTC:20260429T180000
DTEND;TZID=UTC:20260429T190000
DTSTAMP:20260423T102257
CREATED:20260307T153406Z
LAST-MODIFIED:20260307T153406Z
UID:10001388-1777485600-1777489200@thesedonaproject.org
SUMMARY:Restorative Yoga
DESCRIPTION:Join us for a restorative yoga session each Wednesday night at 6pm. Videos are used to guide the group into several poses that we hold for 2-5 minutes\, allowing our bodies to settle into deep stretches. Yin yoga teaches us to “find our edge\, breathe\, and be still”. \nText 530-278-8461 by 4pm to reserve your space.
URL:https://thesedonaproject.org/event/restorative-yoga-8/
LOCATION:The Sedona Project\, 500 Olive Street\, Suite 28\, Marysville\, CA\, United States
ORGANIZER;CN="The Sedona Project":MAILTO:theteam@thesedonaproject.org
END:VEVENT
END:VCALENDAR