BEGIN:VCALENDAR
VERSION:2.0
PRODID:-//The Sedona Project - ECPv6.15.18//NONSGML v1.0//EN
CALSCALE:GREGORIAN
METHOD:PUBLISH
X-WR-CALNAME:The Sedona Project
X-ORIGINAL-URL:https://thesedonaproject.org
X-WR-CALDESC:Events for The Sedona Project
REFRESH-INTERVAL;VALUE=DURATION:PT1H
X-Robots-Tag:noindex
X-PUBLISHED-TTL:PT1H
BEGIN:VTIMEZONE
TZID:UTC
BEGIN:STANDARD
TZOFFSETFROM:+0000
TZOFFSETTO:+0000
TZNAME:UTC
DTSTART:20250101T000000
END:STANDARD
END:VTIMEZONE
BEGIN:VEVENT
DTSTART;TZID=UTC:20260321T100000
DTEND;TZID=UTC:20260321T110000
DTSTAMP:20260425T204030
CREATED:20260307T151706Z
LAST-MODIFIED:20260307T151759Z
UID:10001380-1774087200-1774090800@thesedonaproject.org
SUMMARY:Femininomenon
DESCRIPTION:A book club for women entering or in perimenopause or menopause. We want to learn about it\, complain about it\, and make it our b*tch. \n  \n 
URL:https://thesedonaproject.org/event/femininomenon/
LOCATION:The Sedona Project\, 500 Olive Street\, Suite 28\, Marysville\, CA\, United States
CATEGORIES:Book Club
ORGANIZER;CN="The Sedona Project":MAILTO:theteam@thesedonaproject.org
END:VEVENT
END:VCALENDAR