BEGIN:VCALENDAR
VERSION:2.0
PRODID:-//The Sedona Project - ECPv6.15.18//NONSGML v1.0//EN
CALSCALE:GREGORIAN
METHOD:PUBLISH
X-ORIGINAL-URL:https://thesedonaproject.org
X-WR-CALDESC:Events for The Sedona Project
REFRESH-INTERVAL;VALUE=DURATION:PT1H
X-Robots-Tag:noindex
X-PUBLISHED-TTL:PT1H
BEGIN:VTIMEZONE
TZID:UTC
BEGIN:STANDARD
TZOFFSETFROM:+0000
TZOFFSETTO:+0000
TZNAME:UTC
DTSTART:20250101T000000
END:STANDARD
END:VTIMEZONE
BEGIN:VEVENT
DTSTART;TZID=UTC:20260429T180000
DTEND;TZID=UTC:20260429T190000
DTSTAMP:20260425T155957
CREATED:20250911T000741Z
LAST-MODIFIED:20250911T000741Z
UID:10001085-1777485600-1777489200@thesedonaproject.org
SUMMARY:Yoga for Weary Women
DESCRIPTION:If you’re a woman (of any age) who needs a safe space to destress and rejuvenate\, join us every Wednesday for a complimentary yoga class. Chaya Galicia facilitates this class which combines vinyasa and yin (yin is a nice flow through easy stretches combined with resting poses that are held for several breaths\, bringing healing to the nervous system). This class is for beginners and those more experienced. If you have a mat and blocks\, bring them! Otherwise\, some will be provided.\n\nSpace is limited. Please text us to confirm your spot: 530-278-8461.
URL:https://thesedonaproject.org/event/yoga-for-weary-women-4/2026-04-29/
LOCATION:The Sedona Project\, 500 Olive Street\, Suite 28\, Marysville\, CA\, United States
ATTACH;FMTTYPE=image/png:https://thesedonaproject.org/wp-content/uploads/2025/09/Yoga-for-Weary-Women.png
ORGANIZER;CN="The Sedona Project":MAILTO:theteam@thesedonaproject.org
END:VEVENT
BEGIN:VEVENT
DTSTART;TZID=UTC:20260429T180000
DTEND;TZID=UTC:20260429T190000
DTSTAMP:20260425T155957
CREATED:20260307T153406Z
LAST-MODIFIED:20260307T153406Z
UID:10001388-1777485600-1777489200@thesedonaproject.org
SUMMARY:Restorative Yoga
DESCRIPTION:Join us for a restorative yoga session each Wednesday night at 6pm. Videos are used to guide the group into several poses that we hold for 2-5 minutes\, allowing our bodies to settle into deep stretches. Yin yoga teaches us to “find our edge\, breathe\, and be still”. \nText 530-278-8461 by 4pm to reserve your space.
URL:https://thesedonaproject.org/event/restorative-yoga-8/
LOCATION:The Sedona Project\, 500 Olive Street\, Suite 28\, Marysville\, CA\, United States
ORGANIZER;CN="The Sedona Project":MAILTO:theteam@thesedonaproject.org
END:VEVENT
BEGIN:VEVENT
DTSTART;TZID=UTC:20260506T180000
DTEND;TZID=UTC:20260506T190000
DTSTAMP:20260425T155957
CREATED:20250911T000741Z
LAST-MODIFIED:20250911T000741Z
UID:10001086-1778090400-1778094000@thesedonaproject.org
SUMMARY:Yoga for Weary Women
DESCRIPTION:If you’re a woman (of any age) who needs a safe space to destress and rejuvenate\, join us every Wednesday for a complimentary yoga class. Chaya Galicia facilitates this class which combines vinyasa and yin (yin is a nice flow through easy stretches combined with resting poses that are held for several breaths\, bringing healing to the nervous system). This class is for beginners and those more experienced. If you have a mat and blocks\, bring them! Otherwise\, some will be provided.\n\nSpace is limited. Please text us to confirm your spot: 530-278-8461.
URL:https://thesedonaproject.org/event/yoga-for-weary-women-4/2026-05-06/
LOCATION:The Sedona Project\, 500 Olive Street\, Suite 28\, Marysville\, CA\, United States
ATTACH;FMTTYPE=image/png:https://thesedonaproject.org/wp-content/uploads/2025/09/Yoga-for-Weary-Women.png
ORGANIZER;CN="The Sedona Project":MAILTO:theteam@thesedonaproject.org
END:VEVENT
BEGIN:VEVENT
DTSTART;TZID=UTC:20260506T180000
DTEND;TZID=UTC:20260506T190000
DTSTAMP:20260425T155957
CREATED:20260411T142244Z
LAST-MODIFIED:20260411T142244Z
UID:10001392-1778090400-1778094000@thesedonaproject.org
SUMMARY:Restorative Yoga
DESCRIPTION:Join us for a restorative yoga session each Wednesday night at 6pm. Videos are used to guide the group into several poses that we hold for 2-5 minutes\, allowing our bodies to settle into deep stretches. Yin yoga teaches us to “find our edge\, breathe\, and be still”. \nText 530-278-8461 by 4pm to reserve your space.
URL:https://thesedonaproject.org/event/restorative-yoga-9/2026-05-06/
LOCATION:The Sedona Project\, 500 Olive Street\, Suite 28\, Marysville\, CA\, United States
ORGANIZER;CN="The Sedona Project":MAILTO:theteam@thesedonaproject.org
END:VEVENT
BEGIN:VEVENT
DTSTART;TZID=UTC:20260513T180000
DTEND;TZID=UTC:20260513T190000
DTSTAMP:20260425T155957
CREATED:20250911T000741Z
LAST-MODIFIED:20250911T000741Z
UID:10001087-1778695200-1778698800@thesedonaproject.org
SUMMARY:Yoga for Weary Women
DESCRIPTION:If you’re a woman (of any age) who needs a safe space to destress and rejuvenate\, join us every Wednesday for a complimentary yoga class. Chaya Galicia facilitates this class which combines vinyasa and yin (yin is a nice flow through easy stretches combined with resting poses that are held for several breaths\, bringing healing to the nervous system). This class is for beginners and those more experienced. If you have a mat and blocks\, bring them! Otherwise\, some will be provided.\n\nSpace is limited. Please text us to confirm your spot: 530-278-8461.
URL:https://thesedonaproject.org/event/yoga-for-weary-women-4/2026-05-13/
LOCATION:The Sedona Project\, 500 Olive Street\, Suite 28\, Marysville\, CA\, United States
ATTACH;FMTTYPE=image/png:https://thesedonaproject.org/wp-content/uploads/2025/09/Yoga-for-Weary-Women.png
ORGANIZER;CN="The Sedona Project":MAILTO:theteam@thesedonaproject.org
END:VEVENT
BEGIN:VEVENT
DTSTART;TZID=UTC:20260513T180000
DTEND;TZID=UTC:20260513T190000
DTSTAMP:20260425T155957
CREATED:20260411T142244Z
LAST-MODIFIED:20260411T142244Z
UID:10001393-1778695200-1778698800@thesedonaproject.org
SUMMARY:Restorative Yoga
DESCRIPTION:Join us for a restorative yoga session each Wednesday night at 6pm. Videos are used to guide the group into several poses that we hold for 2-5 minutes\, allowing our bodies to settle into deep stretches. Yin yoga teaches us to “find our edge\, breathe\, and be still”. \nText 530-278-8461 by 4pm to reserve your space.
URL:https://thesedonaproject.org/event/restorative-yoga-9/2026-05-13/
LOCATION:The Sedona Project\, 500 Olive Street\, Suite 28\, Marysville\, CA\, United States
ORGANIZER;CN="The Sedona Project":MAILTO:theteam@thesedonaproject.org
END:VEVENT
BEGIN:VEVENT
DTSTART;TZID=UTC:20260520T180000
DTEND;TZID=UTC:20260520T190000
DTSTAMP:20260425T155957
CREATED:20250911T000741Z
LAST-MODIFIED:20250911T000741Z
UID:10001088-1779300000-1779303600@thesedonaproject.org
SUMMARY:Yoga for Weary Women
DESCRIPTION:If you’re a woman (of any age) who needs a safe space to destress and rejuvenate\, join us every Wednesday for a complimentary yoga class. Chaya Galicia facilitates this class which combines vinyasa and yin (yin is a nice flow through easy stretches combined with resting poses that are held for several breaths\, bringing healing to the nervous system). This class is for beginners and those more experienced. If you have a mat and blocks\, bring them! Otherwise\, some will be provided.\n\nSpace is limited. Please text us to confirm your spot: 530-278-8461.
URL:https://thesedonaproject.org/event/yoga-for-weary-women-4/2026-05-20/
LOCATION:The Sedona Project\, 500 Olive Street\, Suite 28\, Marysville\, CA\, United States
ATTACH;FMTTYPE=image/png:https://thesedonaproject.org/wp-content/uploads/2025/09/Yoga-for-Weary-Women.png
ORGANIZER;CN="The Sedona Project":MAILTO:theteam@thesedonaproject.org
END:VEVENT
BEGIN:VEVENT
DTSTART;TZID=UTC:20260520T180000
DTEND;TZID=UTC:20260520T190000
DTSTAMP:20260425T155957
CREATED:20260411T142244Z
LAST-MODIFIED:20260411T142244Z
UID:10001394-1779300000-1779303600@thesedonaproject.org
SUMMARY:Restorative Yoga
DESCRIPTION:Join us for a restorative yoga session each Wednesday night at 6pm. Videos are used to guide the group into several poses that we hold for 2-5 minutes\, allowing our bodies to settle into deep stretches. Yin yoga teaches us to “find our edge\, breathe\, and be still”. \nText 530-278-8461 by 4pm to reserve your space.
URL:https://thesedonaproject.org/event/restorative-yoga-9/2026-05-20/
LOCATION:The Sedona Project\, 500 Olive Street\, Suite 28\, Marysville\, CA\, United States
ORGANIZER;CN="The Sedona Project":MAILTO:theteam@thesedonaproject.org
END:VEVENT
BEGIN:VEVENT
DTSTART;TZID=UTC:20260527T180000
DTEND;TZID=UTC:20260527T190000
DTSTAMP:20260425T155957
CREATED:20250911T000741Z
LAST-MODIFIED:20250911T000741Z
UID:10001089-1779904800-1779908400@thesedonaproject.org
SUMMARY:Yoga for Weary Women
DESCRIPTION:If you’re a woman (of any age) who needs a safe space to destress and rejuvenate\, join us every Wednesday for a complimentary yoga class. Chaya Galicia facilitates this class which combines vinyasa and yin (yin is a nice flow through easy stretches combined with resting poses that are held for several breaths\, bringing healing to the nervous system). This class is for beginners and those more experienced. If you have a mat and blocks\, bring them! Otherwise\, some will be provided.\n\nSpace is limited. Please text us to confirm your spot: 530-278-8461.
URL:https://thesedonaproject.org/event/yoga-for-weary-women-4/2026-05-27/
LOCATION:The Sedona Project\, 500 Olive Street\, Suite 28\, Marysville\, CA\, United States
ATTACH;FMTTYPE=image/png:https://thesedonaproject.org/wp-content/uploads/2025/09/Yoga-for-Weary-Women.png
ORGANIZER;CN="The Sedona Project":MAILTO:theteam@thesedonaproject.org
END:VEVENT
BEGIN:VEVENT
DTSTART;TZID=UTC:20260527T180000
DTEND;TZID=UTC:20260527T190000
DTSTAMP:20260425T155957
CREATED:20260411T142244Z
LAST-MODIFIED:20260411T142244Z
UID:10001395-1779904800-1779908400@thesedonaproject.org
SUMMARY:Restorative Yoga
DESCRIPTION:Join us for a restorative yoga session each Wednesday night at 6pm. Videos are used to guide the group into several poses that we hold for 2-5 minutes\, allowing our bodies to settle into deep stretches. Yin yoga teaches us to “find our edge\, breathe\, and be still”. \nText 530-278-8461 by 4pm to reserve your space.
URL:https://thesedonaproject.org/event/restorative-yoga-9/2026-05-27/
LOCATION:The Sedona Project\, 500 Olive Street\, Suite 28\, Marysville\, CA\, United States
ORGANIZER;CN="The Sedona Project":MAILTO:theteam@thesedonaproject.org
END:VEVENT
BEGIN:VEVENT
DTSTART;TZID=UTC:20260528T180000
DTEND;TZID=UTC:20260528T190000
DTSTAMP:20260425T155957
CREATED:20260307T154057Z
LAST-MODIFIED:20260411T142920Z
UID:10001652-1779991200-1779994800@thesedonaproject.org
SUMMARY:Living with Complex Medical Conditions
DESCRIPTION:Support group for people living with complex medical conditions. Text 530-278-8461 to let us know you’re coming.
URL:https://thesedonaproject.org/event/living-with-complex-medical-conditions-3/2026-05-28/
LOCATION:The Sedona Project\, 500 Olive Street\, Suite 28\, Marysville\, CA\, United States
ORGANIZER;CN="The Sedona Project":MAILTO:theteam@thesedonaproject.org
END:VEVENT
BEGIN:VEVENT
DTSTART;TZID=UTC:20260531T090000
DTEND;TZID=UTC:20260531T140000
DTSTAMP:20260425T155957
CREATED:20260411T143646Z
LAST-MODIFIED:20260411T143646Z
UID:10001711-1780218000-1780236000@thesedonaproject.org
SUMMARY:Forest Immersion
DESCRIPTION:In Japan\, doctors prescribe time in nature to help people heal! We want to get in on that\, and while we’re no doctors\, we do love the outdoors.  Join us for some healing under the trees – hiking\, meditating\, connecting\, all the good stuff! Text 530-278-8461 for more information or to let us know you’re interested!
URL:https://thesedonaproject.org/event/forest-immersion/
ORGANIZER;CN="The Sedona Project":MAILTO:theteam@thesedonaproject.org
END:VEVENT
BEGIN:VEVENT
DTSTART;TZID=UTC:20260603T180000
DTEND;TZID=UTC:20260603T190000
DTSTAMP:20260425T155957
CREATED:20250911T000741Z
LAST-MODIFIED:20250911T000741Z
UID:10001090-1780509600-1780513200@thesedonaproject.org
SUMMARY:Yoga for Weary Women
DESCRIPTION:If you’re a woman (of any age) who needs a safe space to destress and rejuvenate\, join us every Wednesday for a complimentary yoga class. Chaya Galicia facilitates this class which combines vinyasa and yin (yin is a nice flow through easy stretches combined with resting poses that are held for several breaths\, bringing healing to the nervous system). This class is for beginners and those more experienced. If you have a mat and blocks\, bring them! Otherwise\, some will be provided.\n\nSpace is limited. Please text us to confirm your spot: 530-278-8461.
URL:https://thesedonaproject.org/event/yoga-for-weary-women-4/2026-06-03/
LOCATION:The Sedona Project\, 500 Olive Street\, Suite 28\, Marysville\, CA\, United States
ATTACH;FMTTYPE=image/png:https://thesedonaproject.org/wp-content/uploads/2025/09/Yoga-for-Weary-Women.png
ORGANIZER;CN="The Sedona Project":MAILTO:theteam@thesedonaproject.org
END:VEVENT
BEGIN:VEVENT
DTSTART;TZID=UTC:20260603T180000
DTEND;TZID=UTC:20260603T190000
DTSTAMP:20260425T155957
CREATED:20260411T142244Z
LAST-MODIFIED:20260411T142244Z
UID:10001396-1780509600-1780513200@thesedonaproject.org
SUMMARY:Restorative Yoga
DESCRIPTION:Join us for a restorative yoga session each Wednesday night at 6pm. Videos are used to guide the group into several poses that we hold for 2-5 minutes\, allowing our bodies to settle into deep stretches. Yin yoga teaches us to “find our edge\, breathe\, and be still”. \nText 530-278-8461 by 4pm to reserve your space.
URL:https://thesedonaproject.org/event/restorative-yoga-9/2026-06-03/
LOCATION:The Sedona Project\, 500 Olive Street\, Suite 28\, Marysville\, CA\, United States
ORGANIZER;CN="The Sedona Project":MAILTO:theteam@thesedonaproject.org
END:VEVENT
BEGIN:VEVENT
DTSTART;TZID=UTC:20260610T180000
DTEND;TZID=UTC:20260610T190000
DTSTAMP:20260425T155957
CREATED:20250911T000741Z
LAST-MODIFIED:20250911T000741Z
UID:10001091-1781114400-1781118000@thesedonaproject.org
SUMMARY:Yoga for Weary Women
DESCRIPTION:If you’re a woman (of any age) who needs a safe space to destress and rejuvenate\, join us every Wednesday for a complimentary yoga class. Chaya Galicia facilitates this class which combines vinyasa and yin (yin is a nice flow through easy stretches combined with resting poses that are held for several breaths\, bringing healing to the nervous system). This class is for beginners and those more experienced. If you have a mat and blocks\, bring them! Otherwise\, some will be provided.\n\nSpace is limited. Please text us to confirm your spot: 530-278-8461.
URL:https://thesedonaproject.org/event/yoga-for-weary-women-4/2026-06-10/
LOCATION:The Sedona Project\, 500 Olive Street\, Suite 28\, Marysville\, CA\, United States
ATTACH;FMTTYPE=image/png:https://thesedonaproject.org/wp-content/uploads/2025/09/Yoga-for-Weary-Women.png
ORGANIZER;CN="The Sedona Project":MAILTO:theteam@thesedonaproject.org
END:VEVENT
BEGIN:VEVENT
DTSTART;TZID=UTC:20260610T180000
DTEND;TZID=UTC:20260610T190000
DTSTAMP:20260425T155957
CREATED:20260411T142244Z
LAST-MODIFIED:20260411T142244Z
UID:10001397-1781114400-1781118000@thesedonaproject.org
SUMMARY:Restorative Yoga
DESCRIPTION:Join us for a restorative yoga session each Wednesday night at 6pm. Videos are used to guide the group into several poses that we hold for 2-5 minutes\, allowing our bodies to settle into deep stretches. Yin yoga teaches us to “find our edge\, breathe\, and be still”. \nText 530-278-8461 by 4pm to reserve your space.
URL:https://thesedonaproject.org/event/restorative-yoga-9/2026-06-10/
LOCATION:The Sedona Project\, 500 Olive Street\, Suite 28\, Marysville\, CA\, United States
ORGANIZER;CN="The Sedona Project":MAILTO:theteam@thesedonaproject.org
END:VEVENT
BEGIN:VEVENT
DTSTART;TZID=UTC:20260617T180000
DTEND;TZID=UTC:20260617T190000
DTSTAMP:20260425T155957
CREATED:20250911T000741Z
LAST-MODIFIED:20250911T000741Z
UID:10001092-1781719200-1781722800@thesedonaproject.org
SUMMARY:Yoga for Weary Women
DESCRIPTION:If you’re a woman (of any age) who needs a safe space to destress and rejuvenate\, join us every Wednesday for a complimentary yoga class. Chaya Galicia facilitates this class which combines vinyasa and yin (yin is a nice flow through easy stretches combined with resting poses that are held for several breaths\, bringing healing to the nervous system). This class is for beginners and those more experienced. If you have a mat and blocks\, bring them! Otherwise\, some will be provided.\n\nSpace is limited. Please text us to confirm your spot: 530-278-8461.
URL:https://thesedonaproject.org/event/yoga-for-weary-women-4/2026-06-17/
LOCATION:The Sedona Project\, 500 Olive Street\, Suite 28\, Marysville\, CA\, United States
ATTACH;FMTTYPE=image/png:https://thesedonaproject.org/wp-content/uploads/2025/09/Yoga-for-Weary-Women.png
ORGANIZER;CN="The Sedona Project":MAILTO:theteam@thesedonaproject.org
END:VEVENT
BEGIN:VEVENT
DTSTART;TZID=UTC:20260617T180000
DTEND;TZID=UTC:20260617T190000
DTSTAMP:20260425T155957
CREATED:20260411T142244Z
LAST-MODIFIED:20260411T142244Z
UID:10001398-1781719200-1781722800@thesedonaproject.org
SUMMARY:Restorative Yoga
DESCRIPTION:Join us for a restorative yoga session each Wednesday night at 6pm. Videos are used to guide the group into several poses that we hold for 2-5 minutes\, allowing our bodies to settle into deep stretches. Yin yoga teaches us to “find our edge\, breathe\, and be still”. \nText 530-278-8461 by 4pm to reserve your space.
URL:https://thesedonaproject.org/event/restorative-yoga-9/2026-06-17/
LOCATION:The Sedona Project\, 500 Olive Street\, Suite 28\, Marysville\, CA\, United States
ORGANIZER;CN="The Sedona Project":MAILTO:theteam@thesedonaproject.org
END:VEVENT
BEGIN:VEVENT
DTSTART;TZID=UTC:20260624T180000
DTEND;TZID=UTC:20260624T190000
DTSTAMP:20260425T155957
CREATED:20250911T000741Z
LAST-MODIFIED:20250911T000741Z
UID:10001093-1782324000-1782327600@thesedonaproject.org
SUMMARY:Yoga for Weary Women
DESCRIPTION:If you’re a woman (of any age) who needs a safe space to destress and rejuvenate\, join us every Wednesday for a complimentary yoga class. Chaya Galicia facilitates this class which combines vinyasa and yin (yin is a nice flow through easy stretches combined with resting poses that are held for several breaths\, bringing healing to the nervous system). This class is for beginners and those more experienced. If you have a mat and blocks\, bring them! Otherwise\, some will be provided.\n\nSpace is limited. Please text us to confirm your spot: 530-278-8461.
URL:https://thesedonaproject.org/event/yoga-for-weary-women-4/2026-06-24/
LOCATION:The Sedona Project\, 500 Olive Street\, Suite 28\, Marysville\, CA\, United States
ATTACH;FMTTYPE=image/png:https://thesedonaproject.org/wp-content/uploads/2025/09/Yoga-for-Weary-Women.png
ORGANIZER;CN="The Sedona Project":MAILTO:theteam@thesedonaproject.org
END:VEVENT
BEGIN:VEVENT
DTSTART;TZID=UTC:20260624T180000
DTEND;TZID=UTC:20260624T190000
DTSTAMP:20260425T155957
CREATED:20260411T142244Z
LAST-MODIFIED:20260411T142244Z
UID:10001399-1782324000-1782327600@thesedonaproject.org
SUMMARY:Restorative Yoga
DESCRIPTION:Join us for a restorative yoga session each Wednesday night at 6pm. Videos are used to guide the group into several poses that we hold for 2-5 minutes\, allowing our bodies to settle into deep stretches. Yin yoga teaches us to “find our edge\, breathe\, and be still”. \nText 530-278-8461 by 4pm to reserve your space.
URL:https://thesedonaproject.org/event/restorative-yoga-9/2026-06-24/
LOCATION:The Sedona Project\, 500 Olive Street\, Suite 28\, Marysville\, CA\, United States
ORGANIZER;CN="The Sedona Project":MAILTO:theteam@thesedonaproject.org
END:VEVENT
BEGIN:VEVENT
DTSTART;TZID=UTC:20260625T180000
DTEND;TZID=UTC:20260625T190000
DTSTAMP:20260425T155957
CREATED:20260307T154057Z
LAST-MODIFIED:20260411T142920Z
UID:10001653-1782410400-1782414000@thesedonaproject.org
SUMMARY:Living with Complex Medical Conditions
DESCRIPTION:Support group for people living with complex medical conditions. Text 530-278-8461 to let us know you’re coming.
URL:https://thesedonaproject.org/event/living-with-complex-medical-conditions-3/2026-06-25/
LOCATION:The Sedona Project\, 500 Olive Street\, Suite 28\, Marysville\, CA\, United States
ORGANIZER;CN="The Sedona Project":MAILTO:theteam@thesedonaproject.org
END:VEVENT
BEGIN:VEVENT
DTSTART;TZID=UTC:20260701T180000
DTEND;TZID=UTC:20260701T190000
DTSTAMP:20260425T155957
CREATED:20250911T000741Z
LAST-MODIFIED:20250911T000741Z
UID:10001094-1782928800-1782932400@thesedonaproject.org
SUMMARY:Yoga for Weary Women
DESCRIPTION:If you’re a woman (of any age) who needs a safe space to destress and rejuvenate\, join us every Wednesday for a complimentary yoga class. Chaya Galicia facilitates this class which combines vinyasa and yin (yin is a nice flow through easy stretches combined with resting poses that are held for several breaths\, bringing healing to the nervous system). This class is for beginners and those more experienced. If you have a mat and blocks\, bring them! Otherwise\, some will be provided.\n\nSpace is limited. Please text us to confirm your spot: 530-278-8461.
URL:https://thesedonaproject.org/event/yoga-for-weary-women-4/2026-07-01/
LOCATION:The Sedona Project\, 500 Olive Street\, Suite 28\, Marysville\, CA\, United States
ATTACH;FMTTYPE=image/png:https://thesedonaproject.org/wp-content/uploads/2025/09/Yoga-for-Weary-Women.png
ORGANIZER;CN="The Sedona Project":MAILTO:theteam@thesedonaproject.org
END:VEVENT
BEGIN:VEVENT
DTSTART;TZID=UTC:20260701T180000
DTEND;TZID=UTC:20260701T190000
DTSTAMP:20260425T155957
CREATED:20260411T142244Z
LAST-MODIFIED:20260411T142244Z
UID:10001400-1782928800-1782932400@thesedonaproject.org
SUMMARY:Restorative Yoga
DESCRIPTION:Join us for a restorative yoga session each Wednesday night at 6pm. Videos are used to guide the group into several poses that we hold for 2-5 minutes\, allowing our bodies to settle into deep stretches. Yin yoga teaches us to “find our edge\, breathe\, and be still”. \nText 530-278-8461 by 4pm to reserve your space.
URL:https://thesedonaproject.org/event/restorative-yoga-9/2026-07-01/
LOCATION:The Sedona Project\, 500 Olive Street\, Suite 28\, Marysville\, CA\, United States
ORGANIZER;CN="The Sedona Project":MAILTO:theteam@thesedonaproject.org
END:VEVENT
BEGIN:VEVENT
DTSTART;TZID=UTC:20260708T180000
DTEND;TZID=UTC:20260708T190000
DTSTAMP:20260425T155957
CREATED:20250911T000741Z
LAST-MODIFIED:20250911T000741Z
UID:10001095-1783533600-1783537200@thesedonaproject.org
SUMMARY:Yoga for Weary Women
DESCRIPTION:If you’re a woman (of any age) who needs a safe space to destress and rejuvenate\, join us every Wednesday for a complimentary yoga class. Chaya Galicia facilitates this class which combines vinyasa and yin (yin is a nice flow through easy stretches combined with resting poses that are held for several breaths\, bringing healing to the nervous system). This class is for beginners and those more experienced. If you have a mat and blocks\, bring them! Otherwise\, some will be provided.\n\nSpace is limited. Please text us to confirm your spot: 530-278-8461.
URL:https://thesedonaproject.org/event/yoga-for-weary-women-4/2026-07-08/
LOCATION:The Sedona Project\, 500 Olive Street\, Suite 28\, Marysville\, CA\, United States
ATTACH;FMTTYPE=image/png:https://thesedonaproject.org/wp-content/uploads/2025/09/Yoga-for-Weary-Women.png
ORGANIZER;CN="The Sedona Project":MAILTO:theteam@thesedonaproject.org
END:VEVENT
BEGIN:VEVENT
DTSTART;TZID=UTC:20260708T180000
DTEND;TZID=UTC:20260708T190000
DTSTAMP:20260425T155957
CREATED:20260411T142244Z
LAST-MODIFIED:20260411T142244Z
UID:10001401-1783533600-1783537200@thesedonaproject.org
SUMMARY:Restorative Yoga
DESCRIPTION:Join us for a restorative yoga session each Wednesday night at 6pm. Videos are used to guide the group into several poses that we hold for 2-5 minutes\, allowing our bodies to settle into deep stretches. Yin yoga teaches us to “find our edge\, breathe\, and be still”. \nText 530-278-8461 by 4pm to reserve your space.
URL:https://thesedonaproject.org/event/restorative-yoga-9/2026-07-08/
LOCATION:The Sedona Project\, 500 Olive Street\, Suite 28\, Marysville\, CA\, United States
ORGANIZER;CN="The Sedona Project":MAILTO:theteam@thesedonaproject.org
END:VEVENT
BEGIN:VEVENT
DTSTART;TZID=UTC:20260715T180000
DTEND;TZID=UTC:20260715T190000
DTSTAMP:20260425T155957
CREATED:20250911T000741Z
LAST-MODIFIED:20250911T000741Z
UID:10001096-1784138400-1784142000@thesedonaproject.org
SUMMARY:Yoga for Weary Women
DESCRIPTION:If you’re a woman (of any age) who needs a safe space to destress and rejuvenate\, join us every Wednesday for a complimentary yoga class. Chaya Galicia facilitates this class which combines vinyasa and yin (yin is a nice flow through easy stretches combined with resting poses that are held for several breaths\, bringing healing to the nervous system). This class is for beginners and those more experienced. If you have a mat and blocks\, bring them! Otherwise\, some will be provided.\n\nSpace is limited. Please text us to confirm your spot: 530-278-8461.
URL:https://thesedonaproject.org/event/yoga-for-weary-women-4/2026-07-15/
LOCATION:The Sedona Project\, 500 Olive Street\, Suite 28\, Marysville\, CA\, United States
ATTACH;FMTTYPE=image/png:https://thesedonaproject.org/wp-content/uploads/2025/09/Yoga-for-Weary-Women.png
ORGANIZER;CN="The Sedona Project":MAILTO:theteam@thesedonaproject.org
END:VEVENT
BEGIN:VEVENT
DTSTART;TZID=UTC:20260715T180000
DTEND;TZID=UTC:20260715T190000
DTSTAMP:20260425T155957
CREATED:20260411T142244Z
LAST-MODIFIED:20260411T142244Z
UID:10001402-1784138400-1784142000@thesedonaproject.org
SUMMARY:Restorative Yoga
DESCRIPTION:Join us for a restorative yoga session each Wednesday night at 6pm. Videos are used to guide the group into several poses that we hold for 2-5 minutes\, allowing our bodies to settle into deep stretches. Yin yoga teaches us to “find our edge\, breathe\, and be still”. \nText 530-278-8461 by 4pm to reserve your space.
URL:https://thesedonaproject.org/event/restorative-yoga-9/2026-07-15/
LOCATION:The Sedona Project\, 500 Olive Street\, Suite 28\, Marysville\, CA\, United States
ORGANIZER;CN="The Sedona Project":MAILTO:theteam@thesedonaproject.org
END:VEVENT
BEGIN:VEVENT
DTSTART;TZID=UTC:20260722T180000
DTEND;TZID=UTC:20260722T190000
DTSTAMP:20260425T155957
CREATED:20250911T000741Z
LAST-MODIFIED:20250911T000741Z
UID:10001097-1784743200-1784746800@thesedonaproject.org
SUMMARY:Yoga for Weary Women
DESCRIPTION:If you’re a woman (of any age) who needs a safe space to destress and rejuvenate\, join us every Wednesday for a complimentary yoga class. Chaya Galicia facilitates this class which combines vinyasa and yin (yin is a nice flow through easy stretches combined with resting poses that are held for several breaths\, bringing healing to the nervous system). This class is for beginners and those more experienced. If you have a mat and blocks\, bring them! Otherwise\, some will be provided.\n\nSpace is limited. Please text us to confirm your spot: 530-278-8461.
URL:https://thesedonaproject.org/event/yoga-for-weary-women-4/2026-07-22/
LOCATION:The Sedona Project\, 500 Olive Street\, Suite 28\, Marysville\, CA\, United States
ATTACH;FMTTYPE=image/png:https://thesedonaproject.org/wp-content/uploads/2025/09/Yoga-for-Weary-Women.png
ORGANIZER;CN="The Sedona Project":MAILTO:theteam@thesedonaproject.org
END:VEVENT
BEGIN:VEVENT
DTSTART;TZID=UTC:20260722T180000
DTEND;TZID=UTC:20260722T190000
DTSTAMP:20260425T155957
CREATED:20260411T142244Z
LAST-MODIFIED:20260411T142244Z
UID:10001403-1784743200-1784746800@thesedonaproject.org
SUMMARY:Restorative Yoga
DESCRIPTION:Join us for a restorative yoga session each Wednesday night at 6pm. Videos are used to guide the group into several poses that we hold for 2-5 minutes\, allowing our bodies to settle into deep stretches. Yin yoga teaches us to “find our edge\, breathe\, and be still”. \nText 530-278-8461 by 4pm to reserve your space.
URL:https://thesedonaproject.org/event/restorative-yoga-9/2026-07-22/
LOCATION:The Sedona Project\, 500 Olive Street\, Suite 28\, Marysville\, CA\, United States
ORGANIZER;CN="The Sedona Project":MAILTO:theteam@thesedonaproject.org
END:VEVENT
BEGIN:VEVENT
DTSTART;TZID=UTC:20260723T180000
DTEND;TZID=UTC:20260723T190000
DTSTAMP:20260425T155957
CREATED:20260307T154057Z
LAST-MODIFIED:20260411T142920Z
UID:10001654-1784829600-1784833200@thesedonaproject.org
SUMMARY:Living with Complex Medical Conditions
DESCRIPTION:Support group for people living with complex medical conditions. Text 530-278-8461 to let us know you’re coming.
URL:https://thesedonaproject.org/event/living-with-complex-medical-conditions-3/2026-07-23/
LOCATION:The Sedona Project\, 500 Olive Street\, Suite 28\, Marysville\, CA\, United States
ORGANIZER;CN="The Sedona Project":MAILTO:theteam@thesedonaproject.org
END:VEVENT
END:VCALENDAR