BEGIN:VCALENDAR
VERSION:2.0
PRODID:-//The Sedona Project - ECPv6.15.18//NONSGML v1.0//EN
CALSCALE:GREGORIAN
METHOD:PUBLISH
X-ORIGINAL-URL:https://thesedonaproject.org
X-WR-CALDESC:Events for The Sedona Project
REFRESH-INTERVAL;VALUE=DURATION:PT1H
X-Robots-Tag:noindex
X-PUBLISHED-TTL:PT1H
BEGIN:VTIMEZONE
TZID:UTC
BEGIN:STANDARD
TZOFFSETFROM:+0000
TZOFFSETTO:+0000
TZNAME:UTC
DTSTART:20240101T000000
END:STANDARD
END:VTIMEZONE
BEGIN:VEVENT
DTSTART;TZID=UTC:20251105T180000
DTEND;TZID=UTC:20251105T190000
DTSTAMP:20260425T234148
CREATED:20250911T000741Z
LAST-MODIFIED:20250911T000741Z
UID:10001060-1762365600-1762369200@thesedonaproject.org
SUMMARY:Yoga for Weary Women
DESCRIPTION:If you’re a woman (of any age) who needs a safe space to destress and rejuvenate\, join us every Wednesday for a complimentary yoga class. Chaya Galicia facilitates this class which combines vinyasa and yin (yin is a nice flow through easy stretches combined with resting poses that are held for several breaths\, bringing healing to the nervous system). This class is for beginners and those more experienced. If you have a mat and blocks\, bring them! Otherwise\, some will be provided.\n\nSpace is limited. Please text us to confirm your spot: 530-278-8461.
URL:https://thesedonaproject.org/event/yoga-for-weary-women-4/2025-11-05/
LOCATION:The Sedona Project\, 500 Olive Street\, Suite 28\, Marysville\, CA\, United States
ATTACH;FMTTYPE=image/png:https://thesedonaproject.org/wp-content/uploads/2025/09/Yoga-for-Weary-Women.png
ORGANIZER;CN="The Sedona Project":MAILTO:theteam@thesedonaproject.org
END:VEVENT
BEGIN:VEVENT
DTSTART;TZID=UTC:20251112T180000
DTEND;TZID=UTC:20251112T190000
DTSTAMP:20260425T234148
CREATED:20250911T000741Z
LAST-MODIFIED:20250911T000741Z
UID:10001061-1762970400-1762974000@thesedonaproject.org
SUMMARY:Yoga for Weary Women
DESCRIPTION:If you’re a woman (of any age) who needs a safe space to destress and rejuvenate\, join us every Wednesday for a complimentary yoga class. Chaya Galicia facilitates this class which combines vinyasa and yin (yin is a nice flow through easy stretches combined with resting poses that are held for several breaths\, bringing healing to the nervous system). This class is for beginners and those more experienced. If you have a mat and blocks\, bring them! Otherwise\, some will be provided.\n\nSpace is limited. Please text us to confirm your spot: 530-278-8461.
URL:https://thesedonaproject.org/event/yoga-for-weary-women-4/2025-11-12/
LOCATION:The Sedona Project\, 500 Olive Street\, Suite 28\, Marysville\, CA\, United States
ATTACH;FMTTYPE=image/png:https://thesedonaproject.org/wp-content/uploads/2025/09/Yoga-for-Weary-Women.png
ORGANIZER;CN="The Sedona Project":MAILTO:theteam@thesedonaproject.org
END:VEVENT
BEGIN:VEVENT
DTSTART;TZID=UTC:20251112T180000
DTEND;TZID=UTC:20251112T190000
DTSTAMP:20260425T234148
CREATED:20251110T001148Z
LAST-MODIFIED:20251110T001148Z
UID:10001378-1762970400-1762974000@thesedonaproject.org
SUMMARY:Yoga for Weary Women
DESCRIPTION:
URL:https://thesedonaproject.org/event/yoga-for-weary-women-5/
LOCATION:The Sedona Project\, 500 Olive Street\, Suite 28\, Marysville\, CA\, United States
ORGANIZER;CN="The Sedona Project":MAILTO:theteam@thesedonaproject.org
END:VEVENT
BEGIN:VEVENT
DTSTART;TZID=UTC:20251119T180000
DTEND;TZID=UTC:20251119T190000
DTSTAMP:20260425T234148
CREATED:20250911T000741Z
LAST-MODIFIED:20250911T000741Z
UID:10001062-1763575200-1763578800@thesedonaproject.org
SUMMARY:Yoga for Weary Women
DESCRIPTION:If you’re a woman (of any age) who needs a safe space to destress and rejuvenate\, join us every Wednesday for a complimentary yoga class. Chaya Galicia facilitates this class which combines vinyasa and yin (yin is a nice flow through easy stretches combined with resting poses that are held for several breaths\, bringing healing to the nervous system). This class is for beginners and those more experienced. If you have a mat and blocks\, bring them! Otherwise\, some will be provided.\n\nSpace is limited. Please text us to confirm your spot: 530-278-8461.
URL:https://thesedonaproject.org/event/yoga-for-weary-women-4/2025-11-19/
LOCATION:The Sedona Project\, 500 Olive Street\, Suite 28\, Marysville\, CA\, United States
ATTACH;FMTTYPE=image/png:https://thesedonaproject.org/wp-content/uploads/2025/09/Yoga-for-Weary-Women.png
ORGANIZER;CN="The Sedona Project":MAILTO:theteam@thesedonaproject.org
END:VEVENT
BEGIN:VEVENT
DTSTART;TZID=UTC:20251119T180000
DTEND;TZID=UTC:20251119T190000
DTSTAMP:20260425T234148
CREATED:20251110T001245Z
LAST-MODIFIED:20251110T001245Z
UID:10001379-1763575200-1763578800@thesedonaproject.org
SUMMARY:Yoga for Weary Women
DESCRIPTION:
URL:https://thesedonaproject.org/event/yoga-for-weary-women-6/
LOCATION:The Sedona Project\, 500 Olive Street\, Suite 28\, Marysville\, CA\, United States
ORGANIZER;CN="The Sedona Project":MAILTO:theteam@thesedonaproject.org
END:VEVENT
BEGIN:VEVENT
DTSTART;TZID=UTC:20251120T180000
DTEND;TZID=UTC:20251120T190000
DTSTAMP:20260425T234148
CREATED:20251101T181622Z
LAST-MODIFIED:20251101T181820Z
UID:10001315-1763661600-1763665200@thesedonaproject.org
SUMMARY:Living with Complex Medical Conditions
DESCRIPTION:A monthly group for people who are navigating chronic illness or complex medical conditions. Whether you are the patient\, or the caregiver\, there’s space for you here. \nWe meet both in person at The Sedona Project\, and virtually at https://meet.google.com/qmt-diif-sjx \n\n← Back Thank you for your response. ✨\n\n\n					\n						\n							\n							\n						\n						\n						\n						\n						\n							\n								\n									\n										\n										\n									\n									\n										\n										\n									\n								\n							\n						\n						\n							\n								\n									\n									\n										\n									\n									\n									\n								\n							\n						\n					\n				\n\n\n\nName(required)\n\n \n			\n				\n					\n						\n						\n						\n					\n				\n				\n			 \n	\n\n\nPhone(required)\n\n \n			\n				\n					\n						\n						\n						\n					\n				\n				\n			 \n	\n\n\nMessage\n\n \n			\n				\n					\n						\n						\n						\n					\n				\n				\n			\n	\n	\n\n				\n					\n				\n						Submit
URL:https://thesedonaproject.org/event/living-with-complex-medical-conditions/2025-11-20/
LOCATION:The Sedona Project\, 500 Olive Street\, Suite 28\, Marysville\, CA\, United States
ORGANIZER;CN="The Sedona Project":MAILTO:theteam@thesedonaproject.org
END:VEVENT
BEGIN:VEVENT
DTSTART;TZID=UTC:20251120T180000
DTEND;TZID=UTC:20251120T190000
DTSTAMP:20260425T234148
CREATED:20251110T000958Z
LAST-MODIFIED:20251110T001047Z
UID:10001377-1763661600-1763665200@thesedonaproject.org
SUMMARY:Support for People Living with Chronic Illness
DESCRIPTION:← Back Thank you for your response. ✨\n\n\n					\n						\n							\n							\n						\n						\n						\n						\n						\n							\n								\n									\n										\n										\n									\n									\n										\n										\n									\n								\n							\n						\n						\n							\n								\n									\n									\n										\n									\n									\n									\n								\n							\n						\n					\n				\n\n\n\nName(required)\n\n \n			\n				\n					\n						\n						\n						\n					\n				\n				\n			 \n	\n\n\nPhone(required)\n\n \n			\n				\n					\n						\n						\n						\n					\n				\n				\n			 \n	\n\n\nPlease let us know if you're attending online or in person.(required)\n\n \n			\n				\n					\n						\n						\n						\n					\n				\n				\n			\n	\n\n\nIf attending online\, please share your email address:\n\n \n			\n				\n					\n						\n						\n						\n					\n				\n				\n			 \n	\n	\n\n				\n					\n				\n						Submit
URL:https://thesedonaproject.org/event/living-with-chronic-illness-2/
LOCATION:The Sedona Project\, 500 Olive Street\, Suite 28\, Marysville\, CA\, United States
ORGANIZER;CN="The Sedona Project":MAILTO:theteam@thesedonaproject.org
END:VEVENT
BEGIN:VEVENT
DTSTART;TZID=UTC:20251126T180000
DTEND;TZID=UTC:20251126T190000
DTSTAMP:20260425T234148
CREATED:20250911T000741Z
LAST-MODIFIED:20250911T000741Z
UID:10001063-1764180000-1764183600@thesedonaproject.org
SUMMARY:Yoga for Weary Women
DESCRIPTION:If you’re a woman (of any age) who needs a safe space to destress and rejuvenate\, join us every Wednesday for a complimentary yoga class. Chaya Galicia facilitates this class which combines vinyasa and yin (yin is a nice flow through easy stretches combined with resting poses that are held for several breaths\, bringing healing to the nervous system). This class is for beginners and those more experienced. If you have a mat and blocks\, bring them! Otherwise\, some will be provided.\n\nSpace is limited. Please text us to confirm your spot: 530-278-8461.
URL:https://thesedonaproject.org/event/yoga-for-weary-women-4/2025-11-26/
LOCATION:The Sedona Project\, 500 Olive Street\, Suite 28\, Marysville\, CA\, United States
ATTACH;FMTTYPE=image/png:https://thesedonaproject.org/wp-content/uploads/2025/09/Yoga-for-Weary-Women.png
ORGANIZER;CN="The Sedona Project":MAILTO:theteam@thesedonaproject.org
END:VEVENT
END:VCALENDAR