BEGIN:VCALENDAR
VERSION:2.0
PRODID:-//The Sedona Project - ECPv6.15.18//NONSGML v1.0//EN
CALSCALE:GREGORIAN
METHOD:PUBLISH
X-WR-CALNAME:The Sedona Project
X-ORIGINAL-URL:https://thesedonaproject.org
X-WR-CALDESC:Events for The Sedona Project
REFRESH-INTERVAL;VALUE=DURATION:PT1H
X-Robots-Tag:noindex
X-PUBLISHED-TTL:PT1H
BEGIN:VTIMEZONE
TZID:UTC
BEGIN:STANDARD
TZOFFSETFROM:+0000
TZOFFSETTO:+0000
TZNAME:UTC
DTSTART:20250101T000000
END:STANDARD
END:VTIMEZONE
BEGIN:VEVENT
DTSTART;TZID=UTC:20260506T180000
DTEND;TZID=UTC:20260506T190000
DTSTAMP:20260425T172816
CREATED:20260411T142244Z
LAST-MODIFIED:20260411T142244Z
UID:10001392-1778090400-1778094000@thesedonaproject.org
SUMMARY:Restorative Yoga
DESCRIPTION:Join us for a restorative yoga session each Wednesday night at 6pm. Videos are used to guide the group into several poses that we hold for 2-5 minutes\, allowing our bodies to settle into deep stretches. Yin yoga teaches us to “find our edge\, breathe\, and be still”. \nText 530-278-8461 by 4pm to reserve your space.
URL:https://thesedonaproject.org/event/restorative-yoga-9/2026-05-06/
LOCATION:The Sedona Project\, 500 Olive Street\, Suite 28\, Marysville\, CA\, United States
ORGANIZER;CN="The Sedona Project":MAILTO:theteam@thesedonaproject.org
END:VEVENT
BEGIN:VEVENT
DTSTART;TZID=UTC:20260513T180000
DTEND;TZID=UTC:20260513T190000
DTSTAMP:20260425T172816
CREATED:20260411T142244Z
LAST-MODIFIED:20260411T142244Z
UID:10001393-1778695200-1778698800@thesedonaproject.org
SUMMARY:Restorative Yoga
DESCRIPTION:Join us for a restorative yoga session each Wednesday night at 6pm. Videos are used to guide the group into several poses that we hold for 2-5 minutes\, allowing our bodies to settle into deep stretches. Yin yoga teaches us to “find our edge\, breathe\, and be still”. \nText 530-278-8461 by 4pm to reserve your space.
URL:https://thesedonaproject.org/event/restorative-yoga-9/2026-05-13/
LOCATION:The Sedona Project\, 500 Olive Street\, Suite 28\, Marysville\, CA\, United States
ORGANIZER;CN="The Sedona Project":MAILTO:theteam@thesedonaproject.org
END:VEVENT
BEGIN:VEVENT
DTSTART;TZID=UTC:20260520T180000
DTEND;TZID=UTC:20260520T190000
DTSTAMP:20260425T172816
CREATED:20260411T142244Z
LAST-MODIFIED:20260411T142244Z
UID:10001394-1779300000-1779303600@thesedonaproject.org
SUMMARY:Restorative Yoga
DESCRIPTION:Join us for a restorative yoga session each Wednesday night at 6pm. Videos are used to guide the group into several poses that we hold for 2-5 minutes\, allowing our bodies to settle into deep stretches. Yin yoga teaches us to “find our edge\, breathe\, and be still”. \nText 530-278-8461 by 4pm to reserve your space.
URL:https://thesedonaproject.org/event/restorative-yoga-9/2026-05-20/
LOCATION:The Sedona Project\, 500 Olive Street\, Suite 28\, Marysville\, CA\, United States
ORGANIZER;CN="The Sedona Project":MAILTO:theteam@thesedonaproject.org
END:VEVENT
BEGIN:VEVENT
DTSTART;TZID=UTC:20260527T180000
DTEND;TZID=UTC:20260527T190000
DTSTAMP:20260425T172816
CREATED:20260411T142244Z
LAST-MODIFIED:20260411T142244Z
UID:10001395-1779904800-1779908400@thesedonaproject.org
SUMMARY:Restorative Yoga
DESCRIPTION:Join us for a restorative yoga session each Wednesday night at 6pm. Videos are used to guide the group into several poses that we hold for 2-5 minutes\, allowing our bodies to settle into deep stretches. Yin yoga teaches us to “find our edge\, breathe\, and be still”. \nText 530-278-8461 by 4pm to reserve your space.
URL:https://thesedonaproject.org/event/restorative-yoga-9/2026-05-27/
LOCATION:The Sedona Project\, 500 Olive Street\, Suite 28\, Marysville\, CA\, United States
ORGANIZER;CN="The Sedona Project":MAILTO:theteam@thesedonaproject.org
END:VEVENT
BEGIN:VEVENT
DTSTART;TZID=UTC:20260603T180000
DTEND;TZID=UTC:20260603T190000
DTSTAMP:20260425T172816
CREATED:20260411T142244Z
LAST-MODIFIED:20260411T142244Z
UID:10001396-1780509600-1780513200@thesedonaproject.org
SUMMARY:Restorative Yoga
DESCRIPTION:Join us for a restorative yoga session each Wednesday night at 6pm. Videos are used to guide the group into several poses that we hold for 2-5 minutes\, allowing our bodies to settle into deep stretches. Yin yoga teaches us to “find our edge\, breathe\, and be still”. \nText 530-278-8461 by 4pm to reserve your space.
URL:https://thesedonaproject.org/event/restorative-yoga-9/2026-06-03/
LOCATION:The Sedona Project\, 500 Olive Street\, Suite 28\, Marysville\, CA\, United States
ORGANIZER;CN="The Sedona Project":MAILTO:theteam@thesedonaproject.org
END:VEVENT
BEGIN:VEVENT
DTSTART;TZID=UTC:20260610T180000
DTEND;TZID=UTC:20260610T190000
DTSTAMP:20260425T172816
CREATED:20260411T142244Z
LAST-MODIFIED:20260411T142244Z
UID:10001397-1781114400-1781118000@thesedonaproject.org
SUMMARY:Restorative Yoga
DESCRIPTION:Join us for a restorative yoga session each Wednesday night at 6pm. Videos are used to guide the group into several poses that we hold for 2-5 minutes\, allowing our bodies to settle into deep stretches. Yin yoga teaches us to “find our edge\, breathe\, and be still”. \nText 530-278-8461 by 4pm to reserve your space.
URL:https://thesedonaproject.org/event/restorative-yoga-9/2026-06-10/
LOCATION:The Sedona Project\, 500 Olive Street\, Suite 28\, Marysville\, CA\, United States
ORGANIZER;CN="The Sedona Project":MAILTO:theteam@thesedonaproject.org
END:VEVENT
BEGIN:VEVENT
DTSTART;TZID=UTC:20260617T180000
DTEND;TZID=UTC:20260617T190000
DTSTAMP:20260425T172816
CREATED:20260411T142244Z
LAST-MODIFIED:20260411T142244Z
UID:10001398-1781719200-1781722800@thesedonaproject.org
SUMMARY:Restorative Yoga
DESCRIPTION:Join us for a restorative yoga session each Wednesday night at 6pm. Videos are used to guide the group into several poses that we hold for 2-5 minutes\, allowing our bodies to settle into deep stretches. Yin yoga teaches us to “find our edge\, breathe\, and be still”. \nText 530-278-8461 by 4pm to reserve your space.
URL:https://thesedonaproject.org/event/restorative-yoga-9/2026-06-17/
LOCATION:The Sedona Project\, 500 Olive Street\, Suite 28\, Marysville\, CA\, United States
ORGANIZER;CN="The Sedona Project":MAILTO:theteam@thesedonaproject.org
END:VEVENT
BEGIN:VEVENT
DTSTART;TZID=UTC:20260624T180000
DTEND;TZID=UTC:20260624T190000
DTSTAMP:20260425T172816
CREATED:20260411T142244Z
LAST-MODIFIED:20260411T142244Z
UID:10001399-1782324000-1782327600@thesedonaproject.org
SUMMARY:Restorative Yoga
DESCRIPTION:Join us for a restorative yoga session each Wednesday night at 6pm. Videos are used to guide the group into several poses that we hold for 2-5 minutes\, allowing our bodies to settle into deep stretches. Yin yoga teaches us to “find our edge\, breathe\, and be still”. \nText 530-278-8461 by 4pm to reserve your space.
URL:https://thesedonaproject.org/event/restorative-yoga-9/2026-06-24/
LOCATION:The Sedona Project\, 500 Olive Street\, Suite 28\, Marysville\, CA\, United States
ORGANIZER;CN="The Sedona Project":MAILTO:theteam@thesedonaproject.org
END:VEVENT
BEGIN:VEVENT
DTSTART;TZID=UTC:20260701T180000
DTEND;TZID=UTC:20260701T190000
DTSTAMP:20260425T172816
CREATED:20260411T142244Z
LAST-MODIFIED:20260411T142244Z
UID:10001400-1782928800-1782932400@thesedonaproject.org
SUMMARY:Restorative Yoga
DESCRIPTION:Join us for a restorative yoga session each Wednesday night at 6pm. Videos are used to guide the group into several poses that we hold for 2-5 minutes\, allowing our bodies to settle into deep stretches. Yin yoga teaches us to “find our edge\, breathe\, and be still”. \nText 530-278-8461 by 4pm to reserve your space.
URL:https://thesedonaproject.org/event/restorative-yoga-9/2026-07-01/
LOCATION:The Sedona Project\, 500 Olive Street\, Suite 28\, Marysville\, CA\, United States
ORGANIZER;CN="The Sedona Project":MAILTO:theteam@thesedonaproject.org
END:VEVENT
BEGIN:VEVENT
DTSTART;TZID=UTC:20260708T180000
DTEND;TZID=UTC:20260708T190000
DTSTAMP:20260425T172816
CREATED:20260411T142244Z
LAST-MODIFIED:20260411T142244Z
UID:10001401-1783533600-1783537200@thesedonaproject.org
SUMMARY:Restorative Yoga
DESCRIPTION:Join us for a restorative yoga session each Wednesday night at 6pm. Videos are used to guide the group into several poses that we hold for 2-5 minutes\, allowing our bodies to settle into deep stretches. Yin yoga teaches us to “find our edge\, breathe\, and be still”. \nText 530-278-8461 by 4pm to reserve your space.
URL:https://thesedonaproject.org/event/restorative-yoga-9/2026-07-08/
LOCATION:The Sedona Project\, 500 Olive Street\, Suite 28\, Marysville\, CA\, United States
ORGANIZER;CN="The Sedona Project":MAILTO:theteam@thesedonaproject.org
END:VEVENT
BEGIN:VEVENT
DTSTART;TZID=UTC:20260715T180000
DTEND;TZID=UTC:20260715T190000
DTSTAMP:20260425T172816
CREATED:20260411T142244Z
LAST-MODIFIED:20260411T142244Z
UID:10001402-1784138400-1784142000@thesedonaproject.org
SUMMARY:Restorative Yoga
DESCRIPTION:Join us for a restorative yoga session each Wednesday night at 6pm. Videos are used to guide the group into several poses that we hold for 2-5 minutes\, allowing our bodies to settle into deep stretches. Yin yoga teaches us to “find our edge\, breathe\, and be still”. \nText 530-278-8461 by 4pm to reserve your space.
URL:https://thesedonaproject.org/event/restorative-yoga-9/2026-07-15/
LOCATION:The Sedona Project\, 500 Olive Street\, Suite 28\, Marysville\, CA\, United States
ORGANIZER;CN="The Sedona Project":MAILTO:theteam@thesedonaproject.org
END:VEVENT
BEGIN:VEVENT
DTSTART;TZID=UTC:20260722T180000
DTEND;TZID=UTC:20260722T190000
DTSTAMP:20260425T172816
CREATED:20260411T142244Z
LAST-MODIFIED:20260411T142244Z
UID:10001403-1784743200-1784746800@thesedonaproject.org
SUMMARY:Restorative Yoga
DESCRIPTION:Join us for a restorative yoga session each Wednesday night at 6pm. Videos are used to guide the group into several poses that we hold for 2-5 minutes\, allowing our bodies to settle into deep stretches. Yin yoga teaches us to “find our edge\, breathe\, and be still”. \nText 530-278-8461 by 4pm to reserve your space.
URL:https://thesedonaproject.org/event/restorative-yoga-9/2026-07-22/
LOCATION:The Sedona Project\, 500 Olive Street\, Suite 28\, Marysville\, CA\, United States
ORGANIZER;CN="The Sedona Project":MAILTO:theteam@thesedonaproject.org
END:VEVENT
BEGIN:VEVENT
DTSTART;TZID=UTC:20260729T180000
DTEND;TZID=UTC:20260729T190000
DTSTAMP:20260425T172816
CREATED:20260411T142244Z
LAST-MODIFIED:20260411T142244Z
UID:10001404-1785348000-1785351600@thesedonaproject.org
SUMMARY:Restorative Yoga
DESCRIPTION:Join us for a restorative yoga session each Wednesday night at 6pm. Videos are used to guide the group into several poses that we hold for 2-5 minutes\, allowing our bodies to settle into deep stretches. Yin yoga teaches us to “find our edge\, breathe\, and be still”. \nText 530-278-8461 by 4pm to reserve your space.
URL:https://thesedonaproject.org/event/restorative-yoga-9/2026-07-29/
LOCATION:The Sedona Project\, 500 Olive Street\, Suite 28\, Marysville\, CA\, United States
ORGANIZER;CN="The Sedona Project":MAILTO:theteam@thesedonaproject.org
END:VEVENT
BEGIN:VEVENT
DTSTART;TZID=UTC:20260805T180000
DTEND;TZID=UTC:20260805T190000
DTSTAMP:20260425T172816
CREATED:20260411T142244Z
LAST-MODIFIED:20260411T142244Z
UID:10001405-1785952800-1785956400@thesedonaproject.org
SUMMARY:Restorative Yoga
DESCRIPTION:Join us for a restorative yoga session each Wednesday night at 6pm. Videos are used to guide the group into several poses that we hold for 2-5 minutes\, allowing our bodies to settle into deep stretches. Yin yoga teaches us to “find our edge\, breathe\, and be still”. \nText 530-278-8461 by 4pm to reserve your space.
URL:https://thesedonaproject.org/event/restorative-yoga-9/2026-08-05/
LOCATION:The Sedona Project\, 500 Olive Street\, Suite 28\, Marysville\, CA\, United States
ORGANIZER;CN="The Sedona Project":MAILTO:theteam@thesedonaproject.org
END:VEVENT
BEGIN:VEVENT
DTSTART;TZID=UTC:20260812T180000
DTEND;TZID=UTC:20260812T190000
DTSTAMP:20260425T172816
CREATED:20260411T142244Z
LAST-MODIFIED:20260411T142244Z
UID:10001406-1786557600-1786561200@thesedonaproject.org
SUMMARY:Restorative Yoga
DESCRIPTION:Join us for a restorative yoga session each Wednesday night at 6pm. Videos are used to guide the group into several poses that we hold for 2-5 minutes\, allowing our bodies to settle into deep stretches. Yin yoga teaches us to “find our edge\, breathe\, and be still”. \nText 530-278-8461 by 4pm to reserve your space.
URL:https://thesedonaproject.org/event/restorative-yoga-9/2026-08-12/
LOCATION:The Sedona Project\, 500 Olive Street\, Suite 28\, Marysville\, CA\, United States
ORGANIZER;CN="The Sedona Project":MAILTO:theteam@thesedonaproject.org
END:VEVENT
BEGIN:VEVENT
DTSTART;TZID=UTC:20260819T180000
DTEND;TZID=UTC:20260819T190000
DTSTAMP:20260425T172816
CREATED:20260411T142244Z
LAST-MODIFIED:20260411T142244Z
UID:10001407-1787162400-1787166000@thesedonaproject.org
SUMMARY:Restorative Yoga
DESCRIPTION:Join us for a restorative yoga session each Wednesday night at 6pm. Videos are used to guide the group into several poses that we hold for 2-5 minutes\, allowing our bodies to settle into deep stretches. Yin yoga teaches us to “find our edge\, breathe\, and be still”. \nText 530-278-8461 by 4pm to reserve your space.
URL:https://thesedonaproject.org/event/restorative-yoga-9/2026-08-19/
LOCATION:The Sedona Project\, 500 Olive Street\, Suite 28\, Marysville\, CA\, United States
ORGANIZER;CN="The Sedona Project":MAILTO:theteam@thesedonaproject.org
END:VEVENT
BEGIN:VEVENT
DTSTART;TZID=UTC:20260826T180000
DTEND;TZID=UTC:20260826T190000
DTSTAMP:20260425T172816
CREATED:20260411T142244Z
LAST-MODIFIED:20260411T142244Z
UID:10001408-1787767200-1787770800@thesedonaproject.org
SUMMARY:Restorative Yoga
DESCRIPTION:Join us for a restorative yoga session each Wednesday night at 6pm. Videos are used to guide the group into several poses that we hold for 2-5 minutes\, allowing our bodies to settle into deep stretches. Yin yoga teaches us to “find our edge\, breathe\, and be still”. \nText 530-278-8461 by 4pm to reserve your space.
URL:https://thesedonaproject.org/event/restorative-yoga-9/2026-08-26/
LOCATION:The Sedona Project\, 500 Olive Street\, Suite 28\, Marysville\, CA\, United States
ORGANIZER;CN="The Sedona Project":MAILTO:theteam@thesedonaproject.org
END:VEVENT
BEGIN:VEVENT
DTSTART;TZID=UTC:20260902T180000
DTEND;TZID=UTC:20260902T190000
DTSTAMP:20260425T172816
CREATED:20260411T142244Z
LAST-MODIFIED:20260411T142244Z
UID:10001409-1788372000-1788375600@thesedonaproject.org
SUMMARY:Restorative Yoga
DESCRIPTION:Join us for a restorative yoga session each Wednesday night at 6pm. Videos are used to guide the group into several poses that we hold for 2-5 minutes\, allowing our bodies to settle into deep stretches. Yin yoga teaches us to “find our edge\, breathe\, and be still”. \nText 530-278-8461 by 4pm to reserve your space.
URL:https://thesedonaproject.org/event/restorative-yoga-9/2026-09-02/
LOCATION:The Sedona Project\, 500 Olive Street\, Suite 28\, Marysville\, CA\, United States
ORGANIZER;CN="The Sedona Project":MAILTO:theteam@thesedonaproject.org
END:VEVENT
BEGIN:VEVENT
DTSTART;TZID=UTC:20260909T180000
DTEND;TZID=UTC:20260909T190000
DTSTAMP:20260425T172816
CREATED:20260411T142244Z
LAST-MODIFIED:20260411T142244Z
UID:10001410-1788976800-1788980400@thesedonaproject.org
SUMMARY:Restorative Yoga
DESCRIPTION:Join us for a restorative yoga session each Wednesday night at 6pm. Videos are used to guide the group into several poses that we hold for 2-5 minutes\, allowing our bodies to settle into deep stretches. Yin yoga teaches us to “find our edge\, breathe\, and be still”. \nText 530-278-8461 by 4pm to reserve your space.
URL:https://thesedonaproject.org/event/restorative-yoga-9/2026-09-09/
LOCATION:The Sedona Project\, 500 Olive Street\, Suite 28\, Marysville\, CA\, United States
ORGANIZER;CN="The Sedona Project":MAILTO:theteam@thesedonaproject.org
END:VEVENT
BEGIN:VEVENT
DTSTART;TZID=UTC:20260916T180000
DTEND;TZID=UTC:20260916T190000
DTSTAMP:20260425T172816
CREATED:20260411T142244Z
LAST-MODIFIED:20260411T142244Z
UID:10001411-1789581600-1789585200@thesedonaproject.org
SUMMARY:Restorative Yoga
DESCRIPTION:Join us for a restorative yoga session each Wednesday night at 6pm. Videos are used to guide the group into several poses that we hold for 2-5 minutes\, allowing our bodies to settle into deep stretches. Yin yoga teaches us to “find our edge\, breathe\, and be still”. \nText 530-278-8461 by 4pm to reserve your space.
URL:https://thesedonaproject.org/event/restorative-yoga-9/2026-09-16/
LOCATION:The Sedona Project\, 500 Olive Street\, Suite 28\, Marysville\, CA\, United States
ORGANIZER;CN="The Sedona Project":MAILTO:theteam@thesedonaproject.org
END:VEVENT
BEGIN:VEVENT
DTSTART;TZID=UTC:20260923T180000
DTEND;TZID=UTC:20260923T190000
DTSTAMP:20260425T172816
CREATED:20260411T142244Z
LAST-MODIFIED:20260411T142244Z
UID:10001412-1790186400-1790190000@thesedonaproject.org
SUMMARY:Restorative Yoga
DESCRIPTION:Join us for a restorative yoga session each Wednesday night at 6pm. Videos are used to guide the group into several poses that we hold for 2-5 minutes\, allowing our bodies to settle into deep stretches. Yin yoga teaches us to “find our edge\, breathe\, and be still”. \nText 530-278-8461 by 4pm to reserve your space.
URL:https://thesedonaproject.org/event/restorative-yoga-9/2026-09-23/
LOCATION:The Sedona Project\, 500 Olive Street\, Suite 28\, Marysville\, CA\, United States
ORGANIZER;CN="The Sedona Project":MAILTO:theteam@thesedonaproject.org
END:VEVENT
BEGIN:VEVENT
DTSTART;TZID=UTC:20260930T180000
DTEND;TZID=UTC:20260930T190000
DTSTAMP:20260425T172816
CREATED:20260411T142244Z
LAST-MODIFIED:20260411T142244Z
UID:10001413-1790791200-1790794800@thesedonaproject.org
SUMMARY:Restorative Yoga
DESCRIPTION:Join us for a restorative yoga session each Wednesday night at 6pm. Videos are used to guide the group into several poses that we hold for 2-5 minutes\, allowing our bodies to settle into deep stretches. Yin yoga teaches us to “find our edge\, breathe\, and be still”. \nText 530-278-8461 by 4pm to reserve your space.
URL:https://thesedonaproject.org/event/restorative-yoga-9/2026-09-30/
LOCATION:The Sedona Project\, 500 Olive Street\, Suite 28\, Marysville\, CA\, United States
ORGANIZER;CN="The Sedona Project":MAILTO:theteam@thesedonaproject.org
END:VEVENT
BEGIN:VEVENT
DTSTART;TZID=UTC:20261007T180000
DTEND;TZID=UTC:20261007T190000
DTSTAMP:20260425T172816
CREATED:20260411T142244Z
LAST-MODIFIED:20260411T142244Z
UID:10001414-1791396000-1791399600@thesedonaproject.org
SUMMARY:Restorative Yoga
DESCRIPTION:Join us for a restorative yoga session each Wednesday night at 6pm. Videos are used to guide the group into several poses that we hold for 2-5 minutes\, allowing our bodies to settle into deep stretches. Yin yoga teaches us to “find our edge\, breathe\, and be still”. \nText 530-278-8461 by 4pm to reserve your space.
URL:https://thesedonaproject.org/event/restorative-yoga-9/2026-10-07/
LOCATION:The Sedona Project\, 500 Olive Street\, Suite 28\, Marysville\, CA\, United States
ORGANIZER;CN="The Sedona Project":MAILTO:theteam@thesedonaproject.org
END:VEVENT
BEGIN:VEVENT
DTSTART;TZID=UTC:20261014T180000
DTEND;TZID=UTC:20261014T190000
DTSTAMP:20260425T172816
CREATED:20260411T142244Z
LAST-MODIFIED:20260411T142244Z
UID:10001415-1792000800-1792004400@thesedonaproject.org
SUMMARY:Restorative Yoga
DESCRIPTION:Join us for a restorative yoga session each Wednesday night at 6pm. Videos are used to guide the group into several poses that we hold for 2-5 minutes\, allowing our bodies to settle into deep stretches. Yin yoga teaches us to “find our edge\, breathe\, and be still”. \nText 530-278-8461 by 4pm to reserve your space.
URL:https://thesedonaproject.org/event/restorative-yoga-9/2026-10-14/
LOCATION:The Sedona Project\, 500 Olive Street\, Suite 28\, Marysville\, CA\, United States
ORGANIZER;CN="The Sedona Project":MAILTO:theteam@thesedonaproject.org
END:VEVENT
BEGIN:VEVENT
DTSTART;TZID=UTC:20261021T180000
DTEND;TZID=UTC:20261021T190000
DTSTAMP:20260425T172816
CREATED:20260411T142244Z
LAST-MODIFIED:20260411T142244Z
UID:10001416-1792605600-1792609200@thesedonaproject.org
SUMMARY:Restorative Yoga
DESCRIPTION:Join us for a restorative yoga session each Wednesday night at 6pm. Videos are used to guide the group into several poses that we hold for 2-5 minutes\, allowing our bodies to settle into deep stretches. Yin yoga teaches us to “find our edge\, breathe\, and be still”. \nText 530-278-8461 by 4pm to reserve your space.
URL:https://thesedonaproject.org/event/restorative-yoga-9/2026-10-21/
LOCATION:The Sedona Project\, 500 Olive Street\, Suite 28\, Marysville\, CA\, United States
ORGANIZER;CN="The Sedona Project":MAILTO:theteam@thesedonaproject.org
END:VEVENT
BEGIN:VEVENT
DTSTART;TZID=UTC:20261028T180000
DTEND;TZID=UTC:20261028T190000
DTSTAMP:20260425T172816
CREATED:20260411T142244Z
LAST-MODIFIED:20260411T142244Z
UID:10001417-1793210400-1793214000@thesedonaproject.org
SUMMARY:Restorative Yoga
DESCRIPTION:Join us for a restorative yoga session each Wednesday night at 6pm. Videos are used to guide the group into several poses that we hold for 2-5 minutes\, allowing our bodies to settle into deep stretches. Yin yoga teaches us to “find our edge\, breathe\, and be still”. \nText 530-278-8461 by 4pm to reserve your space.
URL:https://thesedonaproject.org/event/restorative-yoga-9/2026-10-28/
LOCATION:The Sedona Project\, 500 Olive Street\, Suite 28\, Marysville\, CA\, United States
ORGANIZER;CN="The Sedona Project":MAILTO:theteam@thesedonaproject.org
END:VEVENT
BEGIN:VEVENT
DTSTART;TZID=UTC:20261104T180000
DTEND;TZID=UTC:20261104T190000
DTSTAMP:20260425T172816
CREATED:20260411T142244Z
LAST-MODIFIED:20260411T142244Z
UID:10001418-1793815200-1793818800@thesedonaproject.org
SUMMARY:Restorative Yoga
DESCRIPTION:Join us for a restorative yoga session each Wednesday night at 6pm. Videos are used to guide the group into several poses that we hold for 2-5 minutes\, allowing our bodies to settle into deep stretches. Yin yoga teaches us to “find our edge\, breathe\, and be still”. \nText 530-278-8461 by 4pm to reserve your space.
URL:https://thesedonaproject.org/event/restorative-yoga-9/2026-11-04/
LOCATION:The Sedona Project\, 500 Olive Street\, Suite 28\, Marysville\, CA\, United States
ORGANIZER;CN="The Sedona Project":MAILTO:theteam@thesedonaproject.org
END:VEVENT
BEGIN:VEVENT
DTSTART;TZID=UTC:20261111T180000
DTEND;TZID=UTC:20261111T190000
DTSTAMP:20260425T172816
CREATED:20260411T142244Z
LAST-MODIFIED:20260411T142244Z
UID:10001419-1794420000-1794423600@thesedonaproject.org
SUMMARY:Restorative Yoga
DESCRIPTION:Join us for a restorative yoga session each Wednesday night at 6pm. Videos are used to guide the group into several poses that we hold for 2-5 minutes\, allowing our bodies to settle into deep stretches. Yin yoga teaches us to “find our edge\, breathe\, and be still”. \nText 530-278-8461 by 4pm to reserve your space.
URL:https://thesedonaproject.org/event/restorative-yoga-9/2026-11-11/
LOCATION:The Sedona Project\, 500 Olive Street\, Suite 28\, Marysville\, CA\, United States
ORGANIZER;CN="The Sedona Project":MAILTO:theteam@thesedonaproject.org
END:VEVENT
BEGIN:VEVENT
DTSTART;TZID=UTC:20261118T180000
DTEND;TZID=UTC:20261118T190000
DTSTAMP:20260425T172816
CREATED:20260411T142244Z
LAST-MODIFIED:20260411T142244Z
UID:10001420-1795024800-1795028400@thesedonaproject.org
SUMMARY:Restorative Yoga
DESCRIPTION:Join us for a restorative yoga session each Wednesday night at 6pm. Videos are used to guide the group into several poses that we hold for 2-5 minutes\, allowing our bodies to settle into deep stretches. Yin yoga teaches us to “find our edge\, breathe\, and be still”. \nText 530-278-8461 by 4pm to reserve your space.
URL:https://thesedonaproject.org/event/restorative-yoga-9/2026-11-18/
LOCATION:The Sedona Project\, 500 Olive Street\, Suite 28\, Marysville\, CA\, United States
ORGANIZER;CN="The Sedona Project":MAILTO:theteam@thesedonaproject.org
END:VEVENT
BEGIN:VEVENT
DTSTART;TZID=UTC:20261125T180000
DTEND;TZID=UTC:20261125T190000
DTSTAMP:20260425T172816
CREATED:20260411T142244Z
LAST-MODIFIED:20260411T142244Z
UID:10001421-1795629600-1795633200@thesedonaproject.org
SUMMARY:Restorative Yoga
DESCRIPTION:Join us for a restorative yoga session each Wednesday night at 6pm. Videos are used to guide the group into several poses that we hold for 2-5 minutes\, allowing our bodies to settle into deep stretches. Yin yoga teaches us to “find our edge\, breathe\, and be still”. \nText 530-278-8461 by 4pm to reserve your space.
URL:https://thesedonaproject.org/event/restorative-yoga-9/2026-11-25/
LOCATION:The Sedona Project\, 500 Olive Street\, Suite 28\, Marysville\, CA\, United States
ORGANIZER;CN="The Sedona Project":MAILTO:theteam@thesedonaproject.org
END:VEVENT
END:VCALENDAR