BEGIN:VCALENDAR
VERSION:2.0
PRODID:-//The Sedona Project - ECPv6.15.18//NONSGML v1.0//EN
CALSCALE:GREGORIAN
METHOD:PUBLISH
X-WR-CALNAME:The Sedona Project
X-ORIGINAL-URL:https://thesedonaproject.org
X-WR-CALDESC:Events for The Sedona Project
REFRESH-INTERVAL;VALUE=DURATION:PT1H
X-Robots-Tag:noindex
X-PUBLISHED-TTL:PT1H
BEGIN:VTIMEZONE
TZID:UTC
BEGIN:STANDARD
TZOFFSETFROM:+0000
TZOFFSETTO:+0000
TZNAME:UTC
DTSTART:20250101T000000
END:STANDARD
END:VTIMEZONE
BEGIN:VEVENT
DTSTART;TZID=UTC:20260528T180000
DTEND;TZID=UTC:20260528T190000
DTSTAMP:20260425T155457
CREATED:20260307T154057Z
LAST-MODIFIED:20260411T142920Z
UID:10001652-1779991200-1779994800@thesedonaproject.org
SUMMARY:Living with Complex Medical Conditions
DESCRIPTION:Support group for people living with complex medical conditions. Text 530-278-8461 to let us know you’re coming.
URL:https://thesedonaproject.org/event/living-with-complex-medical-conditions-3/2026-05-28/
LOCATION:The Sedona Project\, 500 Olive Street\, Suite 28\, Marysville\, CA\, United States
ORGANIZER;CN="The Sedona Project":MAILTO:theteam@thesedonaproject.org
END:VEVENT
BEGIN:VEVENT
DTSTART;TZID=UTC:20260625T180000
DTEND;TZID=UTC:20260625T190000
DTSTAMP:20260425T155457
CREATED:20260307T154057Z
LAST-MODIFIED:20260411T142920Z
UID:10001653-1782410400-1782414000@thesedonaproject.org
SUMMARY:Living with Complex Medical Conditions
DESCRIPTION:Support group for people living with complex medical conditions. Text 530-278-8461 to let us know you’re coming.
URL:https://thesedonaproject.org/event/living-with-complex-medical-conditions-3/2026-06-25/
LOCATION:The Sedona Project\, 500 Olive Street\, Suite 28\, Marysville\, CA\, United States
ORGANIZER;CN="The Sedona Project":MAILTO:theteam@thesedonaproject.org
END:VEVENT
BEGIN:VEVENT
DTSTART;TZID=UTC:20260723T180000
DTEND;TZID=UTC:20260723T190000
DTSTAMP:20260425T155457
CREATED:20260307T154057Z
LAST-MODIFIED:20260411T142920Z
UID:10001654-1784829600-1784833200@thesedonaproject.org
SUMMARY:Living with Complex Medical Conditions
DESCRIPTION:Support group for people living with complex medical conditions. Text 530-278-8461 to let us know you’re coming.
URL:https://thesedonaproject.org/event/living-with-complex-medical-conditions-3/2026-07-23/
LOCATION:The Sedona Project\, 500 Olive Street\, Suite 28\, Marysville\, CA\, United States
ORGANIZER;CN="The Sedona Project":MAILTO:theteam@thesedonaproject.org
END:VEVENT
BEGIN:VEVENT
DTSTART;TZID=UTC:20260827T180000
DTEND;TZID=UTC:20260827T190000
DTSTAMP:20260425T155457
CREATED:20260307T154057Z
LAST-MODIFIED:20260411T142920Z
UID:10001655-1787853600-1787857200@thesedonaproject.org
SUMMARY:Living with Complex Medical Conditions
DESCRIPTION:Support group for people living with complex medical conditions. Text 530-278-8461 to let us know you’re coming.
URL:https://thesedonaproject.org/event/living-with-complex-medical-conditions-3/2026-08-27/
LOCATION:The Sedona Project\, 500 Olive Street\, Suite 28\, Marysville\, CA\, United States
ORGANIZER;CN="The Sedona Project":MAILTO:theteam@thesedonaproject.org
END:VEVENT
BEGIN:VEVENT
DTSTART;TZID=UTC:20260924T180000
DTEND;TZID=UTC:20260924T190000
DTSTAMP:20260425T155457
CREATED:20260307T154057Z
LAST-MODIFIED:20260411T142920Z
UID:10001656-1790272800-1790276400@thesedonaproject.org
SUMMARY:Living with Complex Medical Conditions
DESCRIPTION:Support group for people living with complex medical conditions. Text 530-278-8461 to let us know you’re coming.
URL:https://thesedonaproject.org/event/living-with-complex-medical-conditions-3/2026-09-24/
LOCATION:The Sedona Project\, 500 Olive Street\, Suite 28\, Marysville\, CA\, United States
ORGANIZER;CN="The Sedona Project":MAILTO:theteam@thesedonaproject.org
END:VEVENT
BEGIN:VEVENT
DTSTART;TZID=UTC:20261022T180000
DTEND;TZID=UTC:20261022T190000
DTSTAMP:20260425T155457
CREATED:20260307T154057Z
LAST-MODIFIED:20260411T142920Z
UID:10001657-1792692000-1792695600@thesedonaproject.org
SUMMARY:Living with Complex Medical Conditions
DESCRIPTION:Support group for people living with complex medical conditions. Text 530-278-8461 to let us know you’re coming.
URL:https://thesedonaproject.org/event/living-with-complex-medical-conditions-3/2026-10-22/
LOCATION:The Sedona Project\, 500 Olive Street\, Suite 28\, Marysville\, CA\, United States
ORGANIZER;CN="The Sedona Project":MAILTO:theteam@thesedonaproject.org
END:VEVENT
BEGIN:VEVENT
DTSTART;TZID=UTC:20261126T180000
DTEND;TZID=UTC:20261126T190000
DTSTAMP:20260425T155457
CREATED:20260307T154057Z
LAST-MODIFIED:20260411T142920Z
UID:10001658-1795716000-1795719600@thesedonaproject.org
SUMMARY:Living with Complex Medical Conditions
DESCRIPTION:Support group for people living with complex medical conditions. Text 530-278-8461 to let us know you’re coming.
URL:https://thesedonaproject.org/event/living-with-complex-medical-conditions-3/2026-11-26/
LOCATION:The Sedona Project\, 500 Olive Street\, Suite 28\, Marysville\, CA\, United States
ORGANIZER;CN="The Sedona Project":MAILTO:theteam@thesedonaproject.org
END:VEVENT
BEGIN:VEVENT
DTSTART;TZID=UTC:20261224T180000
DTEND;TZID=UTC:20261224T190000
DTSTAMP:20260425T155457
CREATED:20260307T154057Z
LAST-MODIFIED:20260411T142920Z
UID:10001659-1798135200-1798138800@thesedonaproject.org
SUMMARY:Living with Complex Medical Conditions
DESCRIPTION:Support group for people living with complex medical conditions. Text 530-278-8461 to let us know you’re coming.
URL:https://thesedonaproject.org/event/living-with-complex-medical-conditions-3/2026-12-24/
LOCATION:The Sedona Project\, 500 Olive Street\, Suite 28\, Marysville\, CA\, United States
ORGANIZER;CN="The Sedona Project":MAILTO:theteam@thesedonaproject.org
END:VEVENT
BEGIN:VEVENT
DTSTART;TZID=UTC:20270128T180000
DTEND;TZID=UTC:20270128T190000
DTSTAMP:20260425T155457
CREATED:20260307T154057Z
LAST-MODIFIED:20260411T142920Z
UID:10001660-1801159200-1801162800@thesedonaproject.org
SUMMARY:Living with Complex Medical Conditions
DESCRIPTION:Support group for people living with complex medical conditions. Text 530-278-8461 to let us know you’re coming.
URL:https://thesedonaproject.org/event/living-with-complex-medical-conditions-3/2027-01-28/
LOCATION:The Sedona Project\, 500 Olive Street\, Suite 28\, Marysville\, CA\, United States
ORGANIZER;CN="The Sedona Project":MAILTO:theteam@thesedonaproject.org
END:VEVENT
BEGIN:VEVENT
DTSTART;TZID=UTC:20270225T180000
DTEND;TZID=UTC:20270225T190000
DTSTAMP:20260425T155457
CREATED:20260307T154057Z
LAST-MODIFIED:20260411T142920Z
UID:10001661-1803578400-1803582000@thesedonaproject.org
SUMMARY:Living with Complex Medical Conditions
DESCRIPTION:Support group for people living with complex medical conditions. Text 530-278-8461 to let us know you’re coming.
URL:https://thesedonaproject.org/event/living-with-complex-medical-conditions-3/2027-02-25/
LOCATION:The Sedona Project\, 500 Olive Street\, Suite 28\, Marysville\, CA\, United States
ORGANIZER;CN="The Sedona Project":MAILTO:theteam@thesedonaproject.org
END:VEVENT
BEGIN:VEVENT
DTSTART;TZID=UTC:20270325T180000
DTEND;TZID=UTC:20270325T190000
DTSTAMP:20260425T155457
CREATED:20260307T154057Z
LAST-MODIFIED:20260411T142920Z
UID:10001662-1805997600-1806001200@thesedonaproject.org
SUMMARY:Living with Complex Medical Conditions
DESCRIPTION:Support group for people living with complex medical conditions. Text 530-278-8461 to let us know you’re coming.
URL:https://thesedonaproject.org/event/living-with-complex-medical-conditions-3/2027-03-25/
LOCATION:The Sedona Project\, 500 Olive Street\, Suite 28\, Marysville\, CA\, United States
ORGANIZER;CN="The Sedona Project":MAILTO:theteam@thesedonaproject.org
END:VEVENT
BEGIN:VEVENT
DTSTART;TZID=UTC:20270422T180000
DTEND;TZID=UTC:20270422T190000
DTSTAMP:20260425T155457
CREATED:20260307T154057Z
LAST-MODIFIED:20260411T142920Z
UID:10001663-1808416800-1808420400@thesedonaproject.org
SUMMARY:Living with Complex Medical Conditions
DESCRIPTION:Support group for people living with complex medical conditions. Text 530-278-8461 to let us know you’re coming.
URL:https://thesedonaproject.org/event/living-with-complex-medical-conditions-3/2027-04-22/
LOCATION:The Sedona Project\, 500 Olive Street\, Suite 28\, Marysville\, CA\, United States
ORGANIZER;CN="The Sedona Project":MAILTO:theteam@thesedonaproject.org
END:VEVENT
BEGIN:VEVENT
DTSTART;TZID=UTC:20270527T180000
DTEND;TZID=UTC:20270527T190000
DTSTAMP:20260425T155457
CREATED:20260307T154057Z
LAST-MODIFIED:20260411T142920Z
UID:10001664-1811440800-1811444400@thesedonaproject.org
SUMMARY:Living with Complex Medical Conditions
DESCRIPTION:Support group for people living with complex medical conditions. Text 530-278-8461 to let us know you’re coming.
URL:https://thesedonaproject.org/event/living-with-complex-medical-conditions-3/2027-05-27/
LOCATION:The Sedona Project\, 500 Olive Street\, Suite 28\, Marysville\, CA\, United States
ORGANIZER;CN="The Sedona Project":MAILTO:theteam@thesedonaproject.org
END:VEVENT
BEGIN:VEVENT
DTSTART;TZID=UTC:20270624T180000
DTEND;TZID=UTC:20270624T190000
DTSTAMP:20260425T155457
CREATED:20260307T154057Z
LAST-MODIFIED:20260411T142920Z
UID:10001665-1813860000-1813863600@thesedonaproject.org
SUMMARY:Living with Complex Medical Conditions
DESCRIPTION:Support group for people living with complex medical conditions. Text 530-278-8461 to let us know you’re coming.
URL:https://thesedonaproject.org/event/living-with-complex-medical-conditions-3/2027-06-24/
LOCATION:The Sedona Project\, 500 Olive Street\, Suite 28\, Marysville\, CA\, United States
ORGANIZER;CN="The Sedona Project":MAILTO:theteam@thesedonaproject.org
END:VEVENT
BEGIN:VEVENT
DTSTART;TZID=UTC:20270722T180000
DTEND;TZID=UTC:20270722T190000
DTSTAMP:20260425T155457
CREATED:20260307T154057Z
LAST-MODIFIED:20260411T142920Z
UID:10001666-1816279200-1816282800@thesedonaproject.org
SUMMARY:Living with Complex Medical Conditions
DESCRIPTION:Support group for people living with complex medical conditions. Text 530-278-8461 to let us know you’re coming.
URL:https://thesedonaproject.org/event/living-with-complex-medical-conditions-3/2027-07-22/
LOCATION:The Sedona Project\, 500 Olive Street\, Suite 28\, Marysville\, CA\, United States
ORGANIZER;CN="The Sedona Project":MAILTO:theteam@thesedonaproject.org
END:VEVENT
BEGIN:VEVENT
DTSTART;TZID=UTC:20270826T180000
DTEND;TZID=UTC:20270826T190000
DTSTAMP:20260425T155457
CREATED:20260307T154057Z
LAST-MODIFIED:20260411T142920Z
UID:10001667-1819303200-1819306800@thesedonaproject.org
SUMMARY:Living with Complex Medical Conditions
DESCRIPTION:Support group for people living with complex medical conditions. Text 530-278-8461 to let us know you’re coming.
URL:https://thesedonaproject.org/event/living-with-complex-medical-conditions-3/2027-08-26/
LOCATION:The Sedona Project\, 500 Olive Street\, Suite 28\, Marysville\, CA\, United States
ORGANIZER;CN="The Sedona Project":MAILTO:theteam@thesedonaproject.org
END:VEVENT
BEGIN:VEVENT
DTSTART;TZID=UTC:20270923T180000
DTEND;TZID=UTC:20270923T190000
DTSTAMP:20260425T155457
CREATED:20260307T154057Z
LAST-MODIFIED:20260411T142920Z
UID:10001668-1821722400-1821726000@thesedonaproject.org
SUMMARY:Living with Complex Medical Conditions
DESCRIPTION:Support group for people living with complex medical conditions. Text 530-278-8461 to let us know you’re coming.
URL:https://thesedonaproject.org/event/living-with-complex-medical-conditions-3/2027-09-23/
LOCATION:The Sedona Project\, 500 Olive Street\, Suite 28\, Marysville\, CA\, United States
ORGANIZER;CN="The Sedona Project":MAILTO:theteam@thesedonaproject.org
END:VEVENT
BEGIN:VEVENT
DTSTART;TZID=UTC:20271028T180000
DTEND;TZID=UTC:20271028T190000
DTSTAMP:20260425T155457
CREATED:20260307T154057Z
LAST-MODIFIED:20260411T142920Z
UID:10001669-1824746400-1824750000@thesedonaproject.org
SUMMARY:Living with Complex Medical Conditions
DESCRIPTION:Support group for people living with complex medical conditions. Text 530-278-8461 to let us know you’re coming.
URL:https://thesedonaproject.org/event/living-with-complex-medical-conditions-3/2027-10-28/
LOCATION:The Sedona Project\, 500 Olive Street\, Suite 28\, Marysville\, CA\, United States
ORGANIZER;CN="The Sedona Project":MAILTO:theteam@thesedonaproject.org
END:VEVENT
BEGIN:VEVENT
DTSTART;TZID=UTC:20271125T180000
DTEND;TZID=UTC:20271125T190000
DTSTAMP:20260425T155457
CREATED:20260307T154057Z
LAST-MODIFIED:20260411T142920Z
UID:10001670-1827165600-1827169200@thesedonaproject.org
SUMMARY:Living with Complex Medical Conditions
DESCRIPTION:Support group for people living with complex medical conditions. Text 530-278-8461 to let us know you’re coming.
URL:https://thesedonaproject.org/event/living-with-complex-medical-conditions-3/2027-11-25/
LOCATION:The Sedona Project\, 500 Olive Street\, Suite 28\, Marysville\, CA\, United States
ORGANIZER;CN="The Sedona Project":MAILTO:theteam@thesedonaproject.org
END:VEVENT
BEGIN:VEVENT
DTSTART;TZID=UTC:20271223T180000
DTEND;TZID=UTC:20271223T190000
DTSTAMP:20260425T155457
CREATED:20260307T154057Z
LAST-MODIFIED:20260411T142920Z
UID:10001671-1829584800-1829588400@thesedonaproject.org
SUMMARY:Living with Complex Medical Conditions
DESCRIPTION:Support group for people living with complex medical conditions. Text 530-278-8461 to let us know you’re coming.
URL:https://thesedonaproject.org/event/living-with-complex-medical-conditions-3/2027-12-23/
LOCATION:The Sedona Project\, 500 Olive Street\, Suite 28\, Marysville\, CA\, United States
ORGANIZER;CN="The Sedona Project":MAILTO:theteam@thesedonaproject.org
END:VEVENT
BEGIN:VEVENT
DTSTART;TZID=UTC:20280127T180000
DTEND;TZID=UTC:20280127T190000
DTSTAMP:20260425T155457
CREATED:20260307T154057Z
LAST-MODIFIED:20260411T142920Z
UID:10001672-1832608800-1832612400@thesedonaproject.org
SUMMARY:Living with Complex Medical Conditions
DESCRIPTION:Support group for people living with complex medical conditions. Text 530-278-8461 to let us know you’re coming.
URL:https://thesedonaproject.org/event/living-with-complex-medical-conditions-3/2028-01-27/
LOCATION:The Sedona Project\, 500 Olive Street\, Suite 28\, Marysville\, CA\, United States
ORGANIZER;CN="The Sedona Project":MAILTO:theteam@thesedonaproject.org
END:VEVENT
BEGIN:VEVENT
DTSTART;TZID=UTC:20280224T180000
DTEND;TZID=UTC:20280224T190000
DTSTAMP:20260425T155457
CREATED:20260307T154057Z
LAST-MODIFIED:20260411T142920Z
UID:10001673-1835028000-1835031600@thesedonaproject.org
SUMMARY:Living with Complex Medical Conditions
DESCRIPTION:Support group for people living with complex medical conditions. Text 530-278-8461 to let us know you’re coming.
URL:https://thesedonaproject.org/event/living-with-complex-medical-conditions-3/2028-02-24/
LOCATION:The Sedona Project\, 500 Olive Street\, Suite 28\, Marysville\, CA\, United States
ORGANIZER;CN="The Sedona Project":MAILTO:theteam@thesedonaproject.org
END:VEVENT
BEGIN:VEVENT
DTSTART;TZID=UTC:20280323T180000
DTEND;TZID=UTC:20280323T190000
DTSTAMP:20260425T155457
CREATED:20260307T154057Z
LAST-MODIFIED:20260411T142920Z
UID:10001674-1837447200-1837450800@thesedonaproject.org
SUMMARY:Living with Complex Medical Conditions
DESCRIPTION:Support group for people living with complex medical conditions. Text 530-278-8461 to let us know you’re coming.
URL:https://thesedonaproject.org/event/living-with-complex-medical-conditions-3/2028-03-23/
LOCATION:The Sedona Project\, 500 Olive Street\, Suite 28\, Marysville\, CA\, United States
ORGANIZER;CN="The Sedona Project":MAILTO:theteam@thesedonaproject.org
END:VEVENT
BEGIN:VEVENT
DTSTART;TZID=UTC:20280427T180000
DTEND;TZID=UTC:20280427T190000
DTSTAMP:20260425T155457
CREATED:20260307T154057Z
LAST-MODIFIED:20260411T142920Z
UID:10001675-1840471200-1840474800@thesedonaproject.org
SUMMARY:Living with Complex Medical Conditions
DESCRIPTION:Support group for people living with complex medical conditions. Text 530-278-8461 to let us know you’re coming.
URL:https://thesedonaproject.org/event/living-with-complex-medical-conditions-3/2028-04-27/
LOCATION:The Sedona Project\, 500 Olive Street\, Suite 28\, Marysville\, CA\, United States
ORGANIZER;CN="The Sedona Project":MAILTO:theteam@thesedonaproject.org
END:VEVENT
BEGIN:VEVENT
DTSTART;TZID=UTC:20280525T180000
DTEND;TZID=UTC:20280525T190000
DTSTAMP:20260425T155457
CREATED:20260307T154057Z
LAST-MODIFIED:20260411T142920Z
UID:10001676-1842890400-1842894000@thesedonaproject.org
SUMMARY:Living with Complex Medical Conditions
DESCRIPTION:Support group for people living with complex medical conditions. Text 530-278-8461 to let us know you’re coming.
URL:https://thesedonaproject.org/event/living-with-complex-medical-conditions-3/2028-05-25/
LOCATION:The Sedona Project\, 500 Olive Street\, Suite 28\, Marysville\, CA\, United States
ORGANIZER;CN="The Sedona Project":MAILTO:theteam@thesedonaproject.org
END:VEVENT
BEGIN:VEVENT
DTSTART;TZID=UTC:20280622T180000
DTEND;TZID=UTC:20280622T190000
DTSTAMP:20260425T155457
CREATED:20260307T154057Z
LAST-MODIFIED:20260411T142920Z
UID:10001677-1845309600-1845313200@thesedonaproject.org
SUMMARY:Living with Complex Medical Conditions
DESCRIPTION:Support group for people living with complex medical conditions. Text 530-278-8461 to let us know you’re coming.
URL:https://thesedonaproject.org/event/living-with-complex-medical-conditions-3/2028-06-22/
LOCATION:The Sedona Project\, 500 Olive Street\, Suite 28\, Marysville\, CA\, United States
ORGANIZER;CN="The Sedona Project":MAILTO:theteam@thesedonaproject.org
END:VEVENT
BEGIN:VEVENT
DTSTART;TZID=UTC:20280727T180000
DTEND;TZID=UTC:20280727T190000
DTSTAMP:20260425T155457
CREATED:20260307T154057Z
LAST-MODIFIED:20260411T142920Z
UID:10001678-1848333600-1848337200@thesedonaproject.org
SUMMARY:Living with Complex Medical Conditions
DESCRIPTION:Support group for people living with complex medical conditions. Text 530-278-8461 to let us know you’re coming.
URL:https://thesedonaproject.org/event/living-with-complex-medical-conditions-3/2028-07-27/
LOCATION:The Sedona Project\, 500 Olive Street\, Suite 28\, Marysville\, CA\, United States
ORGANIZER;CN="The Sedona Project":MAILTO:theteam@thesedonaproject.org
END:VEVENT
BEGIN:VEVENT
DTSTART;TZID=UTC:20280824T180000
DTEND;TZID=UTC:20280824T190000
DTSTAMP:20260425T155457
CREATED:20260307T154057Z
LAST-MODIFIED:20260411T142920Z
UID:10001679-1850752800-1850756400@thesedonaproject.org
SUMMARY:Living with Complex Medical Conditions
DESCRIPTION:Support group for people living with complex medical conditions. Text 530-278-8461 to let us know you’re coming.
URL:https://thesedonaproject.org/event/living-with-complex-medical-conditions-3/2028-08-24/
LOCATION:The Sedona Project\, 500 Olive Street\, Suite 28\, Marysville\, CA\, United States
ORGANIZER;CN="The Sedona Project":MAILTO:theteam@thesedonaproject.org
END:VEVENT
BEGIN:VEVENT
DTSTART;TZID=UTC:20280928T180000
DTEND;TZID=UTC:20280928T190000
DTSTAMP:20260425T155457
CREATED:20260307T154057Z
LAST-MODIFIED:20260411T142920Z
UID:10001680-1853776800-1853780400@thesedonaproject.org
SUMMARY:Living with Complex Medical Conditions
DESCRIPTION:Support group for people living with complex medical conditions. Text 530-278-8461 to let us know you’re coming.
URL:https://thesedonaproject.org/event/living-with-complex-medical-conditions-3/2028-09-28/
LOCATION:The Sedona Project\, 500 Olive Street\, Suite 28\, Marysville\, CA\, United States
ORGANIZER;CN="The Sedona Project":MAILTO:theteam@thesedonaproject.org
END:VEVENT
BEGIN:VEVENT
DTSTART;TZID=UTC:20281026T180000
DTEND;TZID=UTC:20281026T190000
DTSTAMP:20260425T155457
CREATED:20260307T154057Z
LAST-MODIFIED:20260411T142920Z
UID:10001681-1856196000-1856199600@thesedonaproject.org
SUMMARY:Living with Complex Medical Conditions
DESCRIPTION:Support group for people living with complex medical conditions. Text 530-278-8461 to let us know you’re coming.
URL:https://thesedonaproject.org/event/living-with-complex-medical-conditions-3/2028-10-26/
LOCATION:The Sedona Project\, 500 Olive Street\, Suite 28\, Marysville\, CA\, United States
ORGANIZER;CN="The Sedona Project":MAILTO:theteam@thesedonaproject.org
END:VEVENT
END:VCALENDAR